BEGIN:VCALENDAR
VERSION:2.0
PRODID:-//Naturum Ottenby - ECPv6.15.17.1//NONSGML v1.0//EN
CALSCALE:GREGORIAN
METHOD:PUBLISH
X-ORIGINAL-URL:https://naturumottenby.se
X-WR-CALDESC:Händelser för Naturum Ottenby
REFRESH-INTERVAL;VALUE=DURATION:PT1H
X-Robots-Tag:noindex
X-PUBLISHED-TTL:PT1H
BEGIN:VTIMEZONE
TZID:Europe/Stockholm
BEGIN:DAYLIGHT
TZOFFSETFROM:+0100
TZOFFSETTO:+0200
TZNAME:CEST
DTSTART:20230326T010000
END:DAYLIGHT
BEGIN:STANDARD
TZOFFSETFROM:+0200
TZOFFSETTO:+0100
TZNAME:CET
DTSTART:20231029T010000
END:STANDARD
BEGIN:DAYLIGHT
TZOFFSETFROM:+0100
TZOFFSETTO:+0200
TZNAME:CEST
DTSTART:20240331T010000
END:DAYLIGHT
BEGIN:STANDARD
TZOFFSETFROM:+0200
TZOFFSETTO:+0100
TZNAME:CET
DTSTART:20241027T010000
END:STANDARD
BEGIN:DAYLIGHT
TZOFFSETFROM:+0100
TZOFFSETTO:+0200
TZNAME:CEST
DTSTART:20250330T010000
END:DAYLIGHT
BEGIN:STANDARD
TZOFFSETFROM:+0200
TZOFFSETTO:+0100
TZNAME:CET
DTSTART:20251026T010000
END:STANDARD
END:VTIMEZONE
BEGIN:VEVENT
DTSTART;TZID=Europe/Stockholm:20240702T100000
DTEND;TZID=Europe/Stockholm:20240702T104500
DTSTAMP:20260420T112004
CREATED:20240222T145054Z
LAST-MODIFIED:20240318T130935Z
UID:9510-1719914400-1719917100@naturumottenby.se
SUMMARY:Sälar och fåglar
DESCRIPTION:På den här guidningen fokuserar vi på fåglarna och sälarna som finns runt udden för dagen. Guiden hjälper till att artbestämma och ger tips på hur du kan känna igen arterna. Du kan få höra mer om varför fåglar flyttar\, varför Ölands södra udde är en bra plats för just fåglar eller om Östersjöns spännande värld. \nKikare finns att låna. \nStart utanför naturum Ottenby.
URL:https://naturumottenby.se/aktiviteter/uddens-faglar-och-salar-18/2024-07-02/
LOCATION:naturum Ottenby\, Naturum Ottenby 405\, Degerhamn\, 38065\, Sverige
CATEGORIES:Dagliga guidningar
ATTACH;FMTTYPE=image/jpeg:https://naturumottenby.se/wp-content/uploads/sites/20/2018/08/Silvertärna_3.jpg
ORGANIZER;CN="naturum Ottenby":MAILTO:naturum@ottenby.se
GEO:56°11'47.2"N;16°23'56.8"E
X-APPLE-STRUCTURED-LOCATION;VALUE=URI;X-ADDRESS=naturum Ottenby Naturum Ottenby 405 Degerhamn 38065 Sverige;X-APPLE-RADIUS=500;X-TITLE=Naturum Ottenby 405:geo:16°23'56.8"E,56°11'47.2"N
END:VEVENT
BEGIN:VEVENT
DTSTART;TZID=Europe/Stockholm:20240702T110000
DTEND;TZID=Europe/Stockholm:20240702T113000
DTSTAMP:20260420T112004
CREATED:20240222T145629Z
LAST-MODIFIED:20240226T061752Z
UID:9532-1719918000-1719919800@naturumottenby.se
SUMMARY:Folk och fyr
DESCRIPTION:En kort introduktion till platsens historia. \nPå den här kortare vandringen i fyrbyn berättar guiden om fyren\, husen och människornas historia. Hur såg det ut har förr? Hur var arbetet på en fyrplats? Och vilka var de som bodde och jobbade här? \nStart utanför naturum Ottenby.
URL:https://naturumottenby.se/aktiviteter/folk-och-fyr-en-kort-introduktion-till-platsens-historia/2024-07-02/
LOCATION:naturum Ottenby\, Naturum Ottenby 405\, Degerhamn\, 38065\, Sverige
CATEGORIES:Dagliga guidningar
ATTACH;FMTTYPE=image/jpeg:https://cdn.birdlife.se/wp-content/uploads/sites/20/2021/02/osu_hems.jpg
ORGANIZER;CN="naturum Ottenby":MAILTO:naturum@ottenby.se
GEO:56°11'47.2"N;16°23'56.8"E
X-APPLE-STRUCTURED-LOCATION;VALUE=URI;X-ADDRESS=naturum Ottenby Naturum Ottenby 405 Degerhamn 38065 Sverige;X-APPLE-RADIUS=500;X-TITLE=Naturum Ottenby 405:geo:16°23'56.8"E,56°11'47.2"N
END:VEVENT
BEGIN:VEVENT
DTSTART;TZID=Europe/Stockholm:20240702T120000
DTEND;TZID=Europe/Stockholm:20240702T123000
DTSTAMP:20260420T112004
CREATED:20240222T150753Z
LAST-MODIFIED:20240222T150753Z
UID:9674-1719921600-1719923400@naturumottenby.se
SUMMARY:Fågel och fångst
DESCRIPTION:Fåglar på nära håll – riktigt nära! Följ med in bakom kulisserna på Ottenby fågelstation och se hur det går till när fåglar fångas och ringmärks. Har du tur kan du få se en fågel i handen! \nGuidningen kan bli full\, så anmäl dig innan till naturum@ottenby.se eller på plats i naturum.
URL:https://naturumottenby.se/aktiviteter/fagel-och-fangst-55/2024-07-02/
LOCATION:naturum Ottenby\, Naturum Ottenby 405\, Degerhamn\, 38065\, Sverige
CATEGORIES:Dagliga guidningar
ATTACH;FMTTYPE=image/jpeg:https://cdn.birdlife.se/wp-content/uploads/sites/20/2023/03/notskrikalabbsan-scaled.jpg
GEO:56°11'47.2"N;16°23'56.8"E
X-APPLE-STRUCTURED-LOCATION;VALUE=URI;X-ADDRESS=naturum Ottenby Naturum Ottenby 405 Degerhamn 38065 Sverige;X-APPLE-RADIUS=500;X-TITLE=Naturum Ottenby 405:geo:16°23'56.8"E,56°11'47.2"N
END:VEVENT
BEGIN:VEVENT
DTSTART;TZID=Europe/Stockholm:20240702T130000
DTEND;TZID=Europe/Stockholm:20240702T133000
DTSTAMP:20260420T112004
CREATED:20240222T150903Z
LAST-MODIFIED:20240226T062211Z
UID:9696-1719925200-1719927000@naturumottenby.se
SUMMARY:Fågel och fångst
DESCRIPTION:Fåglar på nära håll – riktigt nära! Följ med in bakom kulisserna på Ottenby fågelstation och se hur det går till när fåglar fångas och ringmärks. Har du tur kan du få se en fågel i handen! \nGuidningen kan bli full\, så anmäl dig innan till naturum@ottenby.se eller på plats i naturum.
URL:https://naturumottenby.se/aktiviteter/fagel-och-fangst-56/2024-07-02/
LOCATION:naturum Ottenby\, Naturum Ottenby 405\, Degerhamn\, 38065\, Sverige
CATEGORIES:Dagliga guidningar
ATTACH;FMTTYPE=image/jpeg:https://cdn.birdlife.se/wp-content/uploads/sites/20/2023/03/notskrikalabbsan-scaled.jpg
ORGANIZER;CN="naturum Ottenby":MAILTO:naturum@ottenby.se
GEO:56°11'47.2"N;16°23'56.8"E
X-APPLE-STRUCTURED-LOCATION;VALUE=URI;X-ADDRESS=naturum Ottenby Naturum Ottenby 405 Degerhamn 38065 Sverige;X-APPLE-RADIUS=500;X-TITLE=Naturum Ottenby 405:geo:16°23'56.8"E,56°11'47.2"N
END:VEVENT
BEGIN:VEVENT
DTSTART;TZID=Europe/Stockholm:20240702T140000
DTEND;TZID=Europe/Stockholm:20240702T143000
DTSTAMP:20260420T112004
CREATED:20240222T150349Z
LAST-MODIFIED:20240318T130758Z
UID:9624-1719928800-1719930600@naturumottenby.se
SUMMARY:Vingar och labbar
DESCRIPTION:Guidningen för barnen. Alla får låna kikare sen ger vi oss ut på en kort sväng runt udden och spanar! \nVuxna får följa med men guidens fokus kommer ligga på barnen. \nGuidningen kan bli full\, så anmäl dig gärna innan till naturum@ottenby.se eller på plats i naturum. \nSamling utanför naturum Ottenby.
URL:https://naturumottenby.se/aktiviteter/upptackartur-for-barn-11/2024-07-02/
LOCATION:naturum Ottenby\, Naturum Ottenby 405\, Degerhamn\, 38065\, Sverige
CATEGORIES:Dagliga guidningar
ATTACH;FMTTYPE=image/jpeg:https://naturumottenby.se/wp-content/uploads/sites/20/2018/08/19.jpg
ORGANIZER;CN="naturum Ottenby":MAILTO:naturum@ottenby.se
GEO:56°11'47.2"N;16°23'56.8"E
X-APPLE-STRUCTURED-LOCATION;VALUE=URI;X-ADDRESS=naturum Ottenby Naturum Ottenby 405 Degerhamn 38065 Sverige;X-APPLE-RADIUS=500;X-TITLE=Naturum Ottenby 405:geo:16°23'56.8"E,56°11'47.2"N
END:VEVENT
BEGIN:VEVENT
DTSTART;TZID=Europe/Stockholm:20240702T143000
DTEND;TZID=Europe/Stockholm:20240702T150000
DTSTAMP:20260420T112004
CREATED:20240222T151523Z
LAST-MODIFIED:20240222T151523Z
UID:10531-1719930600-1719932400@naturumottenby.se
SUMMARY:Birds and ringing
DESCRIPTION:Visit Ottenby Bird Observatory behind the scenes and watch them ring the birds. If we are lucky we might be able to admire a bird up close – really close! \nPrebook the tour by sending an email to naturum@ottenby.se or talk to the staff in naturum.
URL:https://naturumottenby.se/aktiviteter/birds-and-ringing-16/2024-07-02/
LOCATION:naturum Ottenby\, Naturum Ottenby 405\, Degerhamn\, 38065\, Sverige
CATEGORIES:Dagliga guidningar
ATTACH;FMTTYPE=image/jpeg:https://cdn.birdlife.se/wp-content/uploads/sites/20/2023/03/steglhandlabb.jpg
ORGANIZER;CN="naturum Ottenby":MAILTO:naturum@ottenby.se
GEO:56°11'47.2"N;16°23'56.8"E
X-APPLE-STRUCTURED-LOCATION;VALUE=URI;X-ADDRESS=naturum Ottenby Naturum Ottenby 405 Degerhamn 38065 Sverige;X-APPLE-RADIUS=500;X-TITLE=Naturum Ottenby 405:geo:16°23'56.8"E,56°11'47.2"N
END:VEVENT
BEGIN:VEVENT
DTSTART;TZID=Europe/Stockholm:20240702T150000
DTEND;TZID=Europe/Stockholm:20240702T154500
DTSTAMP:20260420T112004
CREATED:20240222T145849Z
LAST-MODIFIED:20240226T101820Z
UID:9582-1719932400-1719935100@naturumottenby.se
SUMMARY:Ottenbyguidning
DESCRIPTION:Naturum Ottenbys klassiska guidning där du får följa med på en kort promenad runt Ölands södra udde. På vägen berättar guiden om fyrens historia och om de som arbetade och bodde här nere. Fåglar och sälar letar ni efter tillsammans. Guiden berättar vad ni ser och ger tips på hur ni lär er känna igen olika arter. \nHandkikare finns att låna. \nSamling utanför naturum Ottenby.
URL:https://naturumottenby.se/aktiviteter/ottenbyguidning-29/2024-07-02/
LOCATION:naturum Ottenby\, Naturum Ottenby 405\, Degerhamn\, 38065\, Sverige
CATEGORIES:Dagliga guidningar
ATTACH;FMTTYPE=image/jpeg:https://cdn.birdlife.se/wp-content/uploads/sites/20/2021/03/SAL_HEM.jpg
ORGANIZER;CN="naturum Ottenby":MAILTO:naturum@ottenby.se
GEO:56°11'47.2"N;16°23'56.8"E
X-APPLE-STRUCTURED-LOCATION;VALUE=URI;X-ADDRESS=naturum Ottenby Naturum Ottenby 405 Degerhamn 38065 Sverige;X-APPLE-RADIUS=500;X-TITLE=Naturum Ottenby 405:geo:16°23'56.8"E,56°11'47.2"N
END:VEVENT
BEGIN:VEVENT
DTSTART;TZID=Europe/Stockholm:20240702T160000
DTEND;TZID=Europe/Stockholm:20240702T163000
DTSTAMP:20260420T112004
CREATED:20240222T151022Z
LAST-MODIFIED:20240226T061909Z
UID:9711-1719936000-1719937800@naturumottenby.se
SUMMARY:Fågel och fångst
DESCRIPTION:Fåglar på nära håll – riktigt nära! Följ med in bakom kulisserna på Ottenby fågelstation och se hur det går till när fåglar fångas och ringmärks. Har du tur kan du få se en fågel i handen! \nGuidningen kan bli full\, så anmäl dig innan till naturum@ottenby.se eller på plats i naturum.
URL:https://naturumottenby.se/aktiviteter/fagel-och-fangst-57/2024-07-02/
LOCATION:naturum Ottenby\, Naturum Ottenby 405\, Degerhamn\, 38065\, Sverige
CATEGORIES:Dagliga guidningar
ATTACH;FMTTYPE=image/jpeg:https://cdn.birdlife.se/wp-content/uploads/sites/20/2023/03/notskrikalabbsan-scaled.jpg
ORGANIZER;CN="naturum Ottenby":MAILTO:naturum@ottenby.se
GEO:56°11'47.2"N;16°23'56.8"E
X-APPLE-STRUCTURED-LOCATION;VALUE=URI;X-ADDRESS=naturum Ottenby Naturum Ottenby 405 Degerhamn 38065 Sverige;X-APPLE-RADIUS=500;X-TITLE=Naturum Ottenby 405:geo:16°23'56.8"E,56°11'47.2"N
END:VEVENT
END:VCALENDAR