BEGIN:VCALENDAR
VERSION:2.0
PRODID:-//Naturum Ottenby - ECPv6.15.17.1//NONSGML v1.0//EN
CALSCALE:GREGORIAN
METHOD:PUBLISH
X-WR-CALNAME:Naturum Ottenby
X-ORIGINAL-URL:https://naturumottenby.se
X-WR-CALDESC:Händelser för Naturum Ottenby
REFRESH-INTERVAL;VALUE=DURATION:PT1H
X-Robots-Tag:noindex
X-PUBLISHED-TTL:PT1H
BEGIN:VTIMEZONE
TZID:Europe/Stockholm
BEGIN:DAYLIGHT
TZOFFSETFROM:+0100
TZOFFSETTO:+0200
TZNAME:CEST
DTSTART:20230326T010000
END:DAYLIGHT
BEGIN:STANDARD
TZOFFSETFROM:+0200
TZOFFSETTO:+0100
TZNAME:CET
DTSTART:20231029T010000
END:STANDARD
BEGIN:DAYLIGHT
TZOFFSETFROM:+0100
TZOFFSETTO:+0200
TZNAME:CEST
DTSTART:20240331T010000
END:DAYLIGHT
BEGIN:STANDARD
TZOFFSETFROM:+0200
TZOFFSETTO:+0100
TZNAME:CET
DTSTART:20241027T010000
END:STANDARD
BEGIN:DAYLIGHT
TZOFFSETFROM:+0100
TZOFFSETTO:+0200
TZNAME:CEST
DTSTART:20250330T010000
END:DAYLIGHT
BEGIN:STANDARD
TZOFFSETFROM:+0200
TZOFFSETTO:+0100
TZNAME:CET
DTSTART:20251026T010000
END:STANDARD
END:VTIMEZONE
BEGIN:VEVENT
DTSTART;TZID=Europe/Stockholm:20240710T143000
DTEND;TZID=Europe/Stockholm:20240710T150000
DTSTAMP:20260420T130032
CREATED:20240222T151523Z
LAST-MODIFIED:20240222T151523Z
UID:10539-1720621800-1720623600@naturumottenby.se
SUMMARY:Birds and ringing
DESCRIPTION:Visit Ottenby Bird Observatory behind the scenes and watch them ring the birds. If we are lucky we might be able to admire a bird up close – really close! \nPrebook the tour by sending an email to naturum@ottenby.se or talk to the staff in naturum.
URL:https://naturumottenby.se/aktiviteter/birds-and-ringing-16/2024-07-10/
LOCATION:naturum Ottenby\, Naturum Ottenby 405\, Degerhamn\, 38065\, Sverige
CATEGORIES:Dagliga guidningar
ATTACH;FMTTYPE=image/jpeg:https://cdn.birdlife.se/wp-content/uploads/sites/20/2023/03/steglhandlabb.jpg
ORGANIZER;CN="naturum Ottenby":MAILTO:naturum@ottenby.se
GEO:56°11'47.2"N;16°23'56.8"E
X-APPLE-STRUCTURED-LOCATION;VALUE=URI;X-ADDRESS=naturum Ottenby Naturum Ottenby 405 Degerhamn 38065 Sverige;X-APPLE-RADIUS=500;X-TITLE=Naturum Ottenby 405:geo:16°23'56.8"E,56°11'47.2"N
END:VEVENT
BEGIN:VEVENT
DTSTART;TZID=Europe/Stockholm:20240709T143000
DTEND;TZID=Europe/Stockholm:20240709T150000
DTSTAMP:20260420T130032
CREATED:20240222T151523Z
LAST-MODIFIED:20240222T151523Z
UID:10538-1720535400-1720537200@naturumottenby.se
SUMMARY:Birds and ringing
DESCRIPTION:Visit Ottenby Bird Observatory behind the scenes and watch them ring the birds. If we are lucky we might be able to admire a bird up close – really close! \nPrebook the tour by sending an email to naturum@ottenby.se or talk to the staff in naturum.
URL:https://naturumottenby.se/aktiviteter/birds-and-ringing-16/2024-07-09/
LOCATION:naturum Ottenby\, Naturum Ottenby 405\, Degerhamn\, 38065\, Sverige
CATEGORIES:Dagliga guidningar
ATTACH;FMTTYPE=image/jpeg:https://cdn.birdlife.se/wp-content/uploads/sites/20/2023/03/steglhandlabb.jpg
ORGANIZER;CN="naturum Ottenby":MAILTO:naturum@ottenby.se
GEO:56°11'47.2"N;16°23'56.8"E
X-APPLE-STRUCTURED-LOCATION;VALUE=URI;X-ADDRESS=naturum Ottenby Naturum Ottenby 405 Degerhamn 38065 Sverige;X-APPLE-RADIUS=500;X-TITLE=Naturum Ottenby 405:geo:16°23'56.8"E,56°11'47.2"N
END:VEVENT
BEGIN:VEVENT
DTSTART;TZID=Europe/Stockholm:20240708T143000
DTEND;TZID=Europe/Stockholm:20240708T150000
DTSTAMP:20260420T130032
CREATED:20240222T151523Z
LAST-MODIFIED:20240222T151523Z
UID:10537-1720449000-1720450800@naturumottenby.se
SUMMARY:Birds and ringing
DESCRIPTION:Visit Ottenby Bird Observatory behind the scenes and watch them ring the birds. If we are lucky we might be able to admire a bird up close – really close! \nPrebook the tour by sending an email to naturum@ottenby.se or talk to the staff in naturum.
URL:https://naturumottenby.se/aktiviteter/birds-and-ringing-16/2024-07-08/
LOCATION:naturum Ottenby\, Naturum Ottenby 405\, Degerhamn\, 38065\, Sverige
CATEGORIES:Dagliga guidningar
ATTACH;FMTTYPE=image/jpeg:https://cdn.birdlife.se/wp-content/uploads/sites/20/2023/03/steglhandlabb.jpg
ORGANIZER;CN="naturum Ottenby":MAILTO:naturum@ottenby.se
GEO:56°11'47.2"N;16°23'56.8"E
X-APPLE-STRUCTURED-LOCATION;VALUE=URI;X-ADDRESS=naturum Ottenby Naturum Ottenby 405 Degerhamn 38065 Sverige;X-APPLE-RADIUS=500;X-TITLE=Naturum Ottenby 405:geo:16°23'56.8"E,56°11'47.2"N
END:VEVENT
BEGIN:VEVENT
DTSTART;TZID=Europe/Stockholm:20240707T143000
DTEND;TZID=Europe/Stockholm:20240707T150000
DTSTAMP:20260420T130032
CREATED:20240222T151523Z
LAST-MODIFIED:20240222T151523Z
UID:10536-1720362600-1720364400@naturumottenby.se
SUMMARY:Birds and ringing
DESCRIPTION:Visit Ottenby Bird Observatory behind the scenes and watch them ring the birds. If we are lucky we might be able to admire a bird up close – really close! \nPrebook the tour by sending an email to naturum@ottenby.se or talk to the staff in naturum.
URL:https://naturumottenby.se/aktiviteter/birds-and-ringing-16/2024-07-07/
LOCATION:naturum Ottenby\, Naturum Ottenby 405\, Degerhamn\, 38065\, Sverige
CATEGORIES:Dagliga guidningar
ATTACH;FMTTYPE=image/jpeg:https://cdn.birdlife.se/wp-content/uploads/sites/20/2023/03/steglhandlabb.jpg
ORGANIZER;CN="naturum Ottenby":MAILTO:naturum@ottenby.se
GEO:56°11'47.2"N;16°23'56.8"E
X-APPLE-STRUCTURED-LOCATION;VALUE=URI;X-ADDRESS=naturum Ottenby Naturum Ottenby 405 Degerhamn 38065 Sverige;X-APPLE-RADIUS=500;X-TITLE=Naturum Ottenby 405:geo:16°23'56.8"E,56°11'47.2"N
END:VEVENT
BEGIN:VEVENT
DTSTART;TZID=Europe/Stockholm:20240706T143000
DTEND;TZID=Europe/Stockholm:20240706T150000
DTSTAMP:20260420T130032
CREATED:20240222T151523Z
LAST-MODIFIED:20240222T151523Z
UID:10535-1720276200-1720278000@naturumottenby.se
SUMMARY:Birds and ringing
DESCRIPTION:Visit Ottenby Bird Observatory behind the scenes and watch them ring the birds. If we are lucky we might be able to admire a bird up close – really close! \nPrebook the tour by sending an email to naturum@ottenby.se or talk to the staff in naturum.
URL:https://naturumottenby.se/aktiviteter/birds-and-ringing-16/2024-07-06/
LOCATION:naturum Ottenby\, Naturum Ottenby 405\, Degerhamn\, 38065\, Sverige
CATEGORIES:Dagliga guidningar
ATTACH;FMTTYPE=image/jpeg:https://cdn.birdlife.se/wp-content/uploads/sites/20/2023/03/steglhandlabb.jpg
ORGANIZER;CN="naturum Ottenby":MAILTO:naturum@ottenby.se
GEO:56°11'47.2"N;16°23'56.8"E
X-APPLE-STRUCTURED-LOCATION;VALUE=URI;X-ADDRESS=naturum Ottenby Naturum Ottenby 405 Degerhamn 38065 Sverige;X-APPLE-RADIUS=500;X-TITLE=Naturum Ottenby 405:geo:16°23'56.8"E,56°11'47.2"N
END:VEVENT
BEGIN:VEVENT
DTSTART;TZID=Europe/Stockholm:20240705T143000
DTEND;TZID=Europe/Stockholm:20240705T150000
DTSTAMP:20260420T130032
CREATED:20240222T151523Z
LAST-MODIFIED:20240222T151523Z
UID:10534-1720189800-1720191600@naturumottenby.se
SUMMARY:Birds and ringing
DESCRIPTION:Visit Ottenby Bird Observatory behind the scenes and watch them ring the birds. If we are lucky we might be able to admire a bird up close – really close! \nPrebook the tour by sending an email to naturum@ottenby.se or talk to the staff in naturum.
URL:https://naturumottenby.se/aktiviteter/birds-and-ringing-16/2024-07-05/
LOCATION:naturum Ottenby\, Naturum Ottenby 405\, Degerhamn\, 38065\, Sverige
CATEGORIES:Dagliga guidningar
ATTACH;FMTTYPE=image/jpeg:https://cdn.birdlife.se/wp-content/uploads/sites/20/2023/03/steglhandlabb.jpg
ORGANIZER;CN="naturum Ottenby":MAILTO:naturum@ottenby.se
GEO:56°11'47.2"N;16°23'56.8"E
X-APPLE-STRUCTURED-LOCATION;VALUE=URI;X-ADDRESS=naturum Ottenby Naturum Ottenby 405 Degerhamn 38065 Sverige;X-APPLE-RADIUS=500;X-TITLE=Naturum Ottenby 405:geo:16°23'56.8"E,56°11'47.2"N
END:VEVENT
BEGIN:VEVENT
DTSTART;TZID=Europe/Stockholm:20240704T143000
DTEND;TZID=Europe/Stockholm:20240704T150000
DTSTAMP:20260420T130032
CREATED:20240222T151523Z
LAST-MODIFIED:20240222T151523Z
UID:10533-1720103400-1720105200@naturumottenby.se
SUMMARY:Birds and ringing
DESCRIPTION:Visit Ottenby Bird Observatory behind the scenes and watch them ring the birds. If we are lucky we might be able to admire a bird up close – really close! \nPrebook the tour by sending an email to naturum@ottenby.se or talk to the staff in naturum.
URL:https://naturumottenby.se/aktiviteter/birds-and-ringing-16/2024-07-04/
LOCATION:naturum Ottenby\, Naturum Ottenby 405\, Degerhamn\, 38065\, Sverige
CATEGORIES:Dagliga guidningar
ATTACH;FMTTYPE=image/jpeg:https://cdn.birdlife.se/wp-content/uploads/sites/20/2023/03/steglhandlabb.jpg
ORGANIZER;CN="naturum Ottenby":MAILTO:naturum@ottenby.se
GEO:56°11'47.2"N;16°23'56.8"E
X-APPLE-STRUCTURED-LOCATION;VALUE=URI;X-ADDRESS=naturum Ottenby Naturum Ottenby 405 Degerhamn 38065 Sverige;X-APPLE-RADIUS=500;X-TITLE=Naturum Ottenby 405:geo:16°23'56.8"E,56°11'47.2"N
END:VEVENT
BEGIN:VEVENT
DTSTART;TZID=Europe/Stockholm:20240703T143000
DTEND;TZID=Europe/Stockholm:20240703T150000
DTSTAMP:20260420T130032
CREATED:20240222T151523Z
LAST-MODIFIED:20240222T151523Z
UID:10532-1720017000-1720018800@naturumottenby.se
SUMMARY:Birds and ringing
DESCRIPTION:Visit Ottenby Bird Observatory behind the scenes and watch them ring the birds. If we are lucky we might be able to admire a bird up close – really close! \nPrebook the tour by sending an email to naturum@ottenby.se or talk to the staff in naturum.
URL:https://naturumottenby.se/aktiviteter/birds-and-ringing-16/2024-07-03/
LOCATION:naturum Ottenby\, Naturum Ottenby 405\, Degerhamn\, 38065\, Sverige
CATEGORIES:Dagliga guidningar
ATTACH;FMTTYPE=image/jpeg:https://cdn.birdlife.se/wp-content/uploads/sites/20/2023/03/steglhandlabb.jpg
ORGANIZER;CN="naturum Ottenby":MAILTO:naturum@ottenby.se
GEO:56°11'47.2"N;16°23'56.8"E
X-APPLE-STRUCTURED-LOCATION;VALUE=URI;X-ADDRESS=naturum Ottenby Naturum Ottenby 405 Degerhamn 38065 Sverige;X-APPLE-RADIUS=500;X-TITLE=Naturum Ottenby 405:geo:16°23'56.8"E,56°11'47.2"N
END:VEVENT
BEGIN:VEVENT
DTSTART;TZID=Europe/Stockholm:20240702T143000
DTEND;TZID=Europe/Stockholm:20240702T150000
DTSTAMP:20260420T130032
CREATED:20240222T151523Z
LAST-MODIFIED:20240222T151523Z
UID:10531-1719930600-1719932400@naturumottenby.se
SUMMARY:Birds and ringing
DESCRIPTION:Visit Ottenby Bird Observatory behind the scenes and watch them ring the birds. If we are lucky we might be able to admire a bird up close – really close! \nPrebook the tour by sending an email to naturum@ottenby.se or talk to the staff in naturum.
URL:https://naturumottenby.se/aktiviteter/birds-and-ringing-16/2024-07-02/
LOCATION:naturum Ottenby\, Naturum Ottenby 405\, Degerhamn\, 38065\, Sverige
CATEGORIES:Dagliga guidningar
ATTACH;FMTTYPE=image/jpeg:https://cdn.birdlife.se/wp-content/uploads/sites/20/2023/03/steglhandlabb.jpg
ORGANIZER;CN="naturum Ottenby":MAILTO:naturum@ottenby.se
GEO:56°11'47.2"N;16°23'56.8"E
X-APPLE-STRUCTURED-LOCATION;VALUE=URI;X-ADDRESS=naturum Ottenby Naturum Ottenby 405 Degerhamn 38065 Sverige;X-APPLE-RADIUS=500;X-TITLE=Naturum Ottenby 405:geo:16°23'56.8"E,56°11'47.2"N
END:VEVENT
BEGIN:VEVENT
DTSTART;TZID=Europe/Stockholm:20240701T143000
DTEND;TZID=Europe/Stockholm:20240701T150000
DTSTAMP:20260420T130032
CREATED:20240222T151523Z
LAST-MODIFIED:20240318T131220Z
UID:9727-1719844200-1719846000@naturumottenby.se
SUMMARY:Birds and ringing
DESCRIPTION:Visit Ottenby Bird Observatory behind the scenes and watch them ring the birds. If we are lucky we might be able to admire a bird up close – really close! \nPrebook the tour by sending an email to naturum@ottenby.se or talk to the staff in naturum.
URL:https://naturumottenby.se/aktiviteter/birds-and-ringing-16/2024-07-01/
LOCATION:naturum Ottenby\, Naturum Ottenby 405\, Degerhamn\, 38065\, Sverige
CATEGORIES:Dagliga guidningar
ATTACH;FMTTYPE=image/jpeg:https://cdn.birdlife.se/wp-content/uploads/sites/20/2023/03/steglhandlabb.jpg
ORGANIZER;CN="naturum Ottenby":MAILTO:naturum@ottenby.se
GEO:56°11'47.2"N;16°23'56.8"E
X-APPLE-STRUCTURED-LOCATION;VALUE=URI;X-ADDRESS=naturum Ottenby Naturum Ottenby 405 Degerhamn 38065 Sverige;X-APPLE-RADIUS=500;X-TITLE=Naturum Ottenby 405:geo:16°23'56.8"E,56°11'47.2"N
END:VEVENT
END:VCALENDAR