BEGIN:VCALENDAR
VERSION:2.0
PRODID:-//Naturum Ottenby - ECPv6.15.17.1//NONSGML v1.0//EN
CALSCALE:GREGORIAN
METHOD:PUBLISH
X-WR-CALNAME:Naturum Ottenby
X-ORIGINAL-URL:https://naturumottenby.se
X-WR-CALDESC:Händelser för Naturum Ottenby
REFRESH-INTERVAL;VALUE=DURATION:PT1H
X-Robots-Tag:noindex
X-PUBLISHED-TTL:PT1H
BEGIN:VTIMEZONE
TZID:Europe/Stockholm
BEGIN:DAYLIGHT
TZOFFSETFROM:+0100
TZOFFSETTO:+0200
TZNAME:CEST
DTSTART:20230326T010000
END:DAYLIGHT
BEGIN:STANDARD
TZOFFSETFROM:+0200
TZOFFSETTO:+0100
TZNAME:CET
DTSTART:20231029T010000
END:STANDARD
BEGIN:DAYLIGHT
TZOFFSETFROM:+0100
TZOFFSETTO:+0200
TZNAME:CEST
DTSTART:20240331T010000
END:DAYLIGHT
BEGIN:STANDARD
TZOFFSETFROM:+0200
TZOFFSETTO:+0100
TZNAME:CET
DTSTART:20241027T010000
END:STANDARD
BEGIN:DAYLIGHT
TZOFFSETFROM:+0100
TZOFFSETTO:+0200
TZNAME:CEST
DTSTART:20250330T010000
END:DAYLIGHT
BEGIN:STANDARD
TZOFFSETFROM:+0200
TZOFFSETTO:+0100
TZNAME:CET
DTSTART:20251026T010000
END:STANDARD
END:VTIMEZONE
BEGIN:VEVENT
DTSTART;TZID=Europe/Stockholm:20240711T130000
DTEND;TZID=Europe/Stockholm:20240711T133000
DTSTAMP:20260420T130647
CREATED:20240222T150903Z
LAST-MODIFIED:20240226T062222Z
UID:9707-1720702800-1720704600@naturumottenby.se
SUMMARY:Fågel och fångst
DESCRIPTION:Fåglar på nära håll – riktigt nära! Följ med in bakom kulisserna på Ottenby fågelstation och se hur det går till när fåglar fångas och ringmärks. Har du tur kan du få se en fågel i handen! \nGuidningen kan bli full\, så anmäl dig innan till naturum@ottenby.se eller på plats i naturum.
URL:https://naturumottenby.se/aktiviteter/fagel-och-fangst-56/2024-07-11/
LOCATION:naturum Ottenby\, Naturum Ottenby 405\, Degerhamn\, 38065\, Sverige
CATEGORIES:Dagliga guidningar
ATTACH;FMTTYPE=image/jpeg:https://cdn.birdlife.se/wp-content/uploads/sites/20/2023/03/notskrikalabbsan-scaled.jpg
ORGANIZER;CN="naturum Ottenby":MAILTO:naturum@ottenby.se
GEO:56°11'47.2"N;16°23'56.8"E
X-APPLE-STRUCTURED-LOCATION;VALUE=URI;X-ADDRESS=naturum Ottenby Naturum Ottenby 405 Degerhamn 38065 Sverige;X-APPLE-RADIUS=500;X-TITLE=Naturum Ottenby 405:geo:16°23'56.8"E,56°11'47.2"N
END:VEVENT
BEGIN:VEVENT
DTSTART;TZID=Europe/Stockholm:20240710T130000
DTEND;TZID=Europe/Stockholm:20240710T133000
DTSTAMP:20260420T130647
CREATED:20240222T150903Z
LAST-MODIFIED:20240226T062222Z
UID:9705-1720616400-1720618200@naturumottenby.se
SUMMARY:Fågel och fångst
DESCRIPTION:Fåglar på nära håll – riktigt nära! Följ med in bakom kulisserna på Ottenby fågelstation och se hur det går till när fåglar fångas och ringmärks. Har du tur kan du få se en fågel i handen! \nGuidningen kan bli full\, så anmäl dig innan till naturum@ottenby.se eller på plats i naturum.
URL:https://naturumottenby.se/aktiviteter/fagel-och-fangst-56/2024-07-10/
LOCATION:naturum Ottenby\, Naturum Ottenby 405\, Degerhamn\, 38065\, Sverige
CATEGORIES:Dagliga guidningar
ATTACH;FMTTYPE=image/jpeg:https://cdn.birdlife.se/wp-content/uploads/sites/20/2023/03/notskrikalabbsan-scaled.jpg
ORGANIZER;CN="naturum Ottenby":MAILTO:naturum@ottenby.se
GEO:56°11'47.2"N;16°23'56.8"E
X-APPLE-STRUCTURED-LOCATION;VALUE=URI;X-ADDRESS=naturum Ottenby Naturum Ottenby 405 Degerhamn 38065 Sverige;X-APPLE-RADIUS=500;X-TITLE=Naturum Ottenby 405:geo:16°23'56.8"E,56°11'47.2"N
END:VEVENT
BEGIN:VEVENT
DTSTART;TZID=Europe/Stockholm:20240709T130000
DTEND;TZID=Europe/Stockholm:20240709T133000
DTSTAMP:20260420T130647
CREATED:20240222T150903Z
LAST-MODIFIED:20240226T062221Z
UID:9704-1720530000-1720531800@naturumottenby.se
SUMMARY:Fågel och fångst
DESCRIPTION:Fåglar på nära håll – riktigt nära! Följ med in bakom kulisserna på Ottenby fågelstation och se hur det går till när fåglar fångas och ringmärks. Har du tur kan du få se en fågel i handen! \nGuidningen kan bli full\, så anmäl dig innan till naturum@ottenby.se eller på plats i naturum.
URL:https://naturumottenby.se/aktiviteter/fagel-och-fangst-56/2024-07-09/
LOCATION:naturum Ottenby\, Naturum Ottenby 405\, Degerhamn\, 38065\, Sverige
CATEGORIES:Dagliga guidningar
ATTACH;FMTTYPE=image/jpeg:https://cdn.birdlife.se/wp-content/uploads/sites/20/2023/03/notskrikalabbsan-scaled.jpg
ORGANIZER;CN="naturum Ottenby":MAILTO:naturum@ottenby.se
GEO:56°11'47.2"N;16°23'56.8"E
X-APPLE-STRUCTURED-LOCATION;VALUE=URI;X-ADDRESS=naturum Ottenby Naturum Ottenby 405 Degerhamn 38065 Sverige;X-APPLE-RADIUS=500;X-TITLE=Naturum Ottenby 405:geo:16°23'56.8"E,56°11'47.2"N
END:VEVENT
BEGIN:VEVENT
DTSTART;TZID=Europe/Stockholm:20240708T130000
DTEND;TZID=Europe/Stockholm:20240708T133000
DTSTAMP:20260420T130647
CREATED:20240222T150903Z
LAST-MODIFIED:20240226T062220Z
UID:9703-1720443600-1720445400@naturumottenby.se
SUMMARY:Fågel och fångst
DESCRIPTION:Fåglar på nära håll – riktigt nära! Följ med in bakom kulisserna på Ottenby fågelstation och se hur det går till när fåglar fångas och ringmärks. Har du tur kan du få se en fågel i handen! \nGuidningen kan bli full\, så anmäl dig innan till naturum@ottenby.se eller på plats i naturum.
URL:https://naturumottenby.se/aktiviteter/fagel-och-fangst-56/2024-07-08/
LOCATION:naturum Ottenby\, Naturum Ottenby 405\, Degerhamn\, 38065\, Sverige
CATEGORIES:Dagliga guidningar
ATTACH;FMTTYPE=image/jpeg:https://cdn.birdlife.se/wp-content/uploads/sites/20/2023/03/notskrikalabbsan-scaled.jpg
ORGANIZER;CN="naturum Ottenby":MAILTO:naturum@ottenby.se
GEO:56°11'47.2"N;16°23'56.8"E
X-APPLE-STRUCTURED-LOCATION;VALUE=URI;X-ADDRESS=naturum Ottenby Naturum Ottenby 405 Degerhamn 38065 Sverige;X-APPLE-RADIUS=500;X-TITLE=Naturum Ottenby 405:geo:16°23'56.8"E,56°11'47.2"N
END:VEVENT
BEGIN:VEVENT
DTSTART;TZID=Europe/Stockholm:20240707T130000
DTEND;TZID=Europe/Stockholm:20240707T133000
DTSTAMP:20260420T130647
CREATED:20240222T150903Z
LAST-MODIFIED:20240226T062220Z
UID:9702-1720357200-1720359000@naturumottenby.se
SUMMARY:Fågel och fångst
DESCRIPTION:Fåglar på nära håll – riktigt nära! Följ med in bakom kulisserna på Ottenby fågelstation och se hur det går till när fåglar fångas och ringmärks. Har du tur kan du få se en fågel i handen! \nGuidningen kan bli full\, så anmäl dig innan till naturum@ottenby.se eller på plats i naturum.
URL:https://naturumottenby.se/aktiviteter/fagel-och-fangst-56/2024-07-07/
LOCATION:naturum Ottenby\, Naturum Ottenby 405\, Degerhamn\, 38065\, Sverige
CATEGORIES:Dagliga guidningar
ATTACH;FMTTYPE=image/jpeg:https://cdn.birdlife.se/wp-content/uploads/sites/20/2023/03/notskrikalabbsan-scaled.jpg
ORGANIZER;CN="naturum Ottenby":MAILTO:naturum@ottenby.se
GEO:56°11'47.2"N;16°23'56.8"E
X-APPLE-STRUCTURED-LOCATION;VALUE=URI;X-ADDRESS=naturum Ottenby Naturum Ottenby 405 Degerhamn 38065 Sverige;X-APPLE-RADIUS=500;X-TITLE=Naturum Ottenby 405:geo:16°23'56.8"E,56°11'47.2"N
END:VEVENT
BEGIN:VEVENT
DTSTART;TZID=Europe/Stockholm:20240706T130000
DTEND;TZID=Europe/Stockholm:20240706T133000
DTSTAMP:20260420T130647
CREATED:20240222T150903Z
LAST-MODIFIED:20240226T062219Z
UID:9701-1720270800-1720272600@naturumottenby.se
SUMMARY:Fågel och fångst
DESCRIPTION:Fåglar på nära håll – riktigt nära! Följ med in bakom kulisserna på Ottenby fågelstation och se hur det går till när fåglar fångas och ringmärks. Har du tur kan du få se en fågel i handen! \nGuidningen kan bli full\, så anmäl dig innan till naturum@ottenby.se eller på plats i naturum.
URL:https://naturumottenby.se/aktiviteter/fagel-och-fangst-56/2024-07-06/
LOCATION:naturum Ottenby\, Naturum Ottenby 405\, Degerhamn\, 38065\, Sverige
CATEGORIES:Dagliga guidningar
ATTACH;FMTTYPE=image/jpeg:https://cdn.birdlife.se/wp-content/uploads/sites/20/2023/03/notskrikalabbsan-scaled.jpg
ORGANIZER;CN="naturum Ottenby":MAILTO:naturum@ottenby.se
GEO:56°11'47.2"N;16°23'56.8"E
X-APPLE-STRUCTURED-LOCATION;VALUE=URI;X-ADDRESS=naturum Ottenby Naturum Ottenby 405 Degerhamn 38065 Sverige;X-APPLE-RADIUS=500;X-TITLE=Naturum Ottenby 405:geo:16°23'56.8"E,56°11'47.2"N
END:VEVENT
BEGIN:VEVENT
DTSTART;TZID=Europe/Stockholm:20240705T130000
DTEND;TZID=Europe/Stockholm:20240705T133000
DTSTAMP:20260420T130647
CREATED:20240222T150903Z
LAST-MODIFIED:20240226T062218Z
UID:9700-1720184400-1720186200@naturumottenby.se
SUMMARY:Fågel och fångst
DESCRIPTION:Fåglar på nära håll – riktigt nära! Följ med in bakom kulisserna på Ottenby fågelstation och se hur det går till när fåglar fångas och ringmärks. Har du tur kan du få se en fågel i handen! \nGuidningen kan bli full\, så anmäl dig innan till naturum@ottenby.se eller på plats i naturum.
URL:https://naturumottenby.se/aktiviteter/fagel-och-fangst-56/2024-07-05/
LOCATION:naturum Ottenby\, Naturum Ottenby 405\, Degerhamn\, 38065\, Sverige
CATEGORIES:Dagliga guidningar
ATTACH;FMTTYPE=image/jpeg:https://cdn.birdlife.se/wp-content/uploads/sites/20/2023/03/notskrikalabbsan-scaled.jpg
ORGANIZER;CN="naturum Ottenby":MAILTO:naturum@ottenby.se
GEO:56°11'47.2"N;16°23'56.8"E
X-APPLE-STRUCTURED-LOCATION;VALUE=URI;X-ADDRESS=naturum Ottenby Naturum Ottenby 405 Degerhamn 38065 Sverige;X-APPLE-RADIUS=500;X-TITLE=Naturum Ottenby 405:geo:16°23'56.8"E,56°11'47.2"N
END:VEVENT
BEGIN:VEVENT
DTSTART;TZID=Europe/Stockholm:20240704T130000
DTEND;TZID=Europe/Stockholm:20240704T133000
DTSTAMP:20260420T130647
CREATED:20240222T150903Z
LAST-MODIFIED:20240226T062213Z
UID:9698-1720098000-1720099800@naturumottenby.se
SUMMARY:Fågel och fångst
DESCRIPTION:Fåglar på nära håll – riktigt nära! Följ med in bakom kulisserna på Ottenby fågelstation och se hur det går till när fåglar fångas och ringmärks. Har du tur kan du få se en fågel i handen! \nGuidningen kan bli full\, så anmäl dig innan till naturum@ottenby.se eller på plats i naturum.
URL:https://naturumottenby.se/aktiviteter/fagel-och-fangst-56/2024-07-04/
LOCATION:naturum Ottenby\, Naturum Ottenby 405\, Degerhamn\, 38065\, Sverige
CATEGORIES:Dagliga guidningar
ATTACH;FMTTYPE=image/jpeg:https://cdn.birdlife.se/wp-content/uploads/sites/20/2023/03/notskrikalabbsan-scaled.jpg
ORGANIZER;CN="naturum Ottenby":MAILTO:naturum@ottenby.se
GEO:56°11'47.2"N;16°23'56.8"E
X-APPLE-STRUCTURED-LOCATION;VALUE=URI;X-ADDRESS=naturum Ottenby Naturum Ottenby 405 Degerhamn 38065 Sverige;X-APPLE-RADIUS=500;X-TITLE=Naturum Ottenby 405:geo:16°23'56.8"E,56°11'47.2"N
END:VEVENT
BEGIN:VEVENT
DTSTART;TZID=Europe/Stockholm:20240703T130000
DTEND;TZID=Europe/Stockholm:20240703T133000
DTSTAMP:20260420T130647
CREATED:20240222T150903Z
LAST-MODIFIED:20240226T062212Z
UID:9697-1720011600-1720013400@naturumottenby.se
SUMMARY:Fågel och fångst
DESCRIPTION:Fåglar på nära håll – riktigt nära! Följ med in bakom kulisserna på Ottenby fågelstation och se hur det går till när fåglar fångas och ringmärks. Har du tur kan du få se en fågel i handen! \nGuidningen kan bli full\, så anmäl dig innan till naturum@ottenby.se eller på plats i naturum.
URL:https://naturumottenby.se/aktiviteter/fagel-och-fangst-56/2024-07-03/
LOCATION:naturum Ottenby\, Naturum Ottenby 405\, Degerhamn\, 38065\, Sverige
CATEGORIES:Dagliga guidningar
ATTACH;FMTTYPE=image/jpeg:https://cdn.birdlife.se/wp-content/uploads/sites/20/2023/03/notskrikalabbsan-scaled.jpg
ORGANIZER;CN="naturum Ottenby":MAILTO:naturum@ottenby.se
GEO:56°11'47.2"N;16°23'56.8"E
X-APPLE-STRUCTURED-LOCATION;VALUE=URI;X-ADDRESS=naturum Ottenby Naturum Ottenby 405 Degerhamn 38065 Sverige;X-APPLE-RADIUS=500;X-TITLE=Naturum Ottenby 405:geo:16°23'56.8"E,56°11'47.2"N
END:VEVENT
BEGIN:VEVENT
DTSTART;TZID=Europe/Stockholm:20240702T130000
DTEND;TZID=Europe/Stockholm:20240702T133000
DTSTAMP:20260420T130647
CREATED:20240222T150903Z
LAST-MODIFIED:20240226T062211Z
UID:9696-1719925200-1719927000@naturumottenby.se
SUMMARY:Fågel och fångst
DESCRIPTION:Fåglar på nära håll – riktigt nära! Följ med in bakom kulisserna på Ottenby fågelstation och se hur det går till när fåglar fångas och ringmärks. Har du tur kan du få se en fågel i handen! \nGuidningen kan bli full\, så anmäl dig innan till naturum@ottenby.se eller på plats i naturum.
URL:https://naturumottenby.se/aktiviteter/fagel-och-fangst-56/2024-07-02/
LOCATION:naturum Ottenby\, Naturum Ottenby 405\, Degerhamn\, 38065\, Sverige
CATEGORIES:Dagliga guidningar
ATTACH;FMTTYPE=image/jpeg:https://cdn.birdlife.se/wp-content/uploads/sites/20/2023/03/notskrikalabbsan-scaled.jpg
ORGANIZER;CN="naturum Ottenby":MAILTO:naturum@ottenby.se
GEO:56°11'47.2"N;16°23'56.8"E
X-APPLE-STRUCTURED-LOCATION;VALUE=URI;X-ADDRESS=naturum Ottenby Naturum Ottenby 405 Degerhamn 38065 Sverige;X-APPLE-RADIUS=500;X-TITLE=Naturum Ottenby 405:geo:16°23'56.8"E,56°11'47.2"N
END:VEVENT
BEGIN:VEVENT
DTSTART;TZID=Europe/Stockholm:20240701T130000
DTEND;TZID=Europe/Stockholm:20240701T133000
DTSTAMP:20260420T130647
CREATED:20240222T150903Z
LAST-MODIFIED:20240226T062211Z
UID:9695-1719838800-1719840600@naturumottenby.se
SUMMARY:Fågel och fångst
DESCRIPTION:Fåglar på nära håll – riktigt nära! Följ med in bakom kulisserna på Ottenby fågelstation och se hur det går till när fåglar fångas och ringmärks. Har du tur kan du få se en fågel i handen! \nGuidningen kan bli full\, så anmäl dig innan till naturum@ottenby.se eller på plats i naturum.
URL:https://naturumottenby.se/aktiviteter/fagel-och-fangst-56/2024-07-01/
LOCATION:naturum Ottenby\, Naturum Ottenby 405\, Degerhamn\, 38065\, Sverige
CATEGORIES:Dagliga guidningar
ATTACH;FMTTYPE=image/jpeg:https://cdn.birdlife.se/wp-content/uploads/sites/20/2023/03/notskrikalabbsan-scaled.jpg
ORGANIZER;CN="naturum Ottenby":MAILTO:naturum@ottenby.se
GEO:56°11'47.2"N;16°23'56.8"E
X-APPLE-STRUCTURED-LOCATION;VALUE=URI;X-ADDRESS=naturum Ottenby Naturum Ottenby 405 Degerhamn 38065 Sverige;X-APPLE-RADIUS=500;X-TITLE=Naturum Ottenby 405:geo:16°23'56.8"E,56°11'47.2"N
END:VEVENT
BEGIN:VEVENT
DTSTART;TZID=Europe/Stockholm:20240630T130000
DTEND;TZID=Europe/Stockholm:20240630T133000
DTSTAMP:20260420T130647
CREATED:20240222T150903Z
LAST-MODIFIED:20240226T062210Z
UID:9694-1719752400-1719754200@naturumottenby.se
SUMMARY:Fågel och fångst
DESCRIPTION:Fåglar på nära håll – riktigt nära! Följ med in bakom kulisserna på Ottenby fågelstation och se hur det går till när fåglar fångas och ringmärks. Har du tur kan du få se en fågel i handen! \nGuidningen kan bli full\, så anmäl dig innan till naturum@ottenby.se eller på plats i naturum.
URL:https://naturumottenby.se/aktiviteter/fagel-och-fangst-56/2024-06-30/
LOCATION:naturum Ottenby\, Naturum Ottenby 405\, Degerhamn\, 38065\, Sverige
CATEGORIES:Dagliga guidningar
ATTACH;FMTTYPE=image/jpeg:https://cdn.birdlife.se/wp-content/uploads/sites/20/2023/03/notskrikalabbsan-scaled.jpg
ORGANIZER;CN="naturum Ottenby":MAILTO:naturum@ottenby.se
GEO:56°11'47.2"N;16°23'56.8"E
X-APPLE-STRUCTURED-LOCATION;VALUE=URI;X-ADDRESS=naturum Ottenby Naturum Ottenby 405 Degerhamn 38065 Sverige;X-APPLE-RADIUS=500;X-TITLE=Naturum Ottenby 405:geo:16°23'56.8"E,56°11'47.2"N
END:VEVENT
BEGIN:VEVENT
DTSTART;TZID=Europe/Stockholm:20240629T130000
DTEND;TZID=Europe/Stockholm:20240629T133000
DTSTAMP:20260420T130647
CREATED:20240222T150903Z
LAST-MODIFIED:20240226T062209Z
UID:9693-1719666000-1719667800@naturumottenby.se
SUMMARY:Fågel och fångst
DESCRIPTION:Fåglar på nära håll – riktigt nära! Följ med in bakom kulisserna på Ottenby fågelstation och se hur det går till när fåglar fångas och ringmärks. Har du tur kan du få se en fågel i handen! \nGuidningen kan bli full\, så anmäl dig innan till naturum@ottenby.se eller på plats i naturum.
URL:https://naturumottenby.se/aktiviteter/fagel-och-fangst-56/2024-06-29/
LOCATION:naturum Ottenby\, Naturum Ottenby 405\, Degerhamn\, 38065\, Sverige
CATEGORIES:Dagliga guidningar
ATTACH;FMTTYPE=image/jpeg:https://cdn.birdlife.se/wp-content/uploads/sites/20/2023/03/notskrikalabbsan-scaled.jpg
ORGANIZER;CN="naturum Ottenby":MAILTO:naturum@ottenby.se
GEO:56°11'47.2"N;16°23'56.8"E
X-APPLE-STRUCTURED-LOCATION;VALUE=URI;X-ADDRESS=naturum Ottenby Naturum Ottenby 405 Degerhamn 38065 Sverige;X-APPLE-RADIUS=500;X-TITLE=Naturum Ottenby 405:geo:16°23'56.8"E,56°11'47.2"N
END:VEVENT
BEGIN:VEVENT
DTSTART;TZID=Europe/Stockholm:20240628T130000
DTEND;TZID=Europe/Stockholm:20240628T133000
DTSTAMP:20260420T130647
CREATED:20240222T150903Z
LAST-MODIFIED:20240226T062208Z
UID:9692-1719579600-1719581400@naturumottenby.se
SUMMARY:Fågel och fångst
DESCRIPTION:Fåglar på nära håll – riktigt nära! Följ med in bakom kulisserna på Ottenby fågelstation och se hur det går till när fåglar fångas och ringmärks. Har du tur kan du få se en fågel i handen! \nGuidningen kan bli full\, så anmäl dig innan till naturum@ottenby.se eller på plats i naturum.
URL:https://naturumottenby.se/aktiviteter/fagel-och-fangst-56/2024-06-28/
LOCATION:naturum Ottenby\, Naturum Ottenby 405\, Degerhamn\, 38065\, Sverige
CATEGORIES:Dagliga guidningar
ATTACH;FMTTYPE=image/jpeg:https://cdn.birdlife.se/wp-content/uploads/sites/20/2023/03/notskrikalabbsan-scaled.jpg
ORGANIZER;CN="naturum Ottenby":MAILTO:naturum@ottenby.se
GEO:56°11'47.2"N;16°23'56.8"E
X-APPLE-STRUCTURED-LOCATION;VALUE=URI;X-ADDRESS=naturum Ottenby Naturum Ottenby 405 Degerhamn 38065 Sverige;X-APPLE-RADIUS=500;X-TITLE=Naturum Ottenby 405:geo:16°23'56.8"E,56°11'47.2"N
END:VEVENT
BEGIN:VEVENT
DTSTART;TZID=Europe/Stockholm:20240627T130000
DTEND;TZID=Europe/Stockholm:20240627T133000
DTSTAMP:20260420T130647
CREATED:20240222T150903Z
LAST-MODIFIED:20240226T062207Z
UID:9691-1719493200-1719495000@naturumottenby.se
SUMMARY:Fågel och fångst
DESCRIPTION:Fåglar på nära håll – riktigt nära! Följ med in bakom kulisserna på Ottenby fågelstation och se hur det går till när fåglar fångas och ringmärks. Har du tur kan du få se en fågel i handen! \nGuidningen kan bli full\, så anmäl dig innan till naturum@ottenby.se eller på plats i naturum.
URL:https://naturumottenby.se/aktiviteter/fagel-och-fangst-56/2024-06-27/
LOCATION:naturum Ottenby\, Naturum Ottenby 405\, Degerhamn\, 38065\, Sverige
CATEGORIES:Dagliga guidningar
ATTACH;FMTTYPE=image/jpeg:https://cdn.birdlife.se/wp-content/uploads/sites/20/2023/03/notskrikalabbsan-scaled.jpg
ORGANIZER;CN="naturum Ottenby":MAILTO:naturum@ottenby.se
GEO:56°11'47.2"N;16°23'56.8"E
X-APPLE-STRUCTURED-LOCATION;VALUE=URI;X-ADDRESS=naturum Ottenby Naturum Ottenby 405 Degerhamn 38065 Sverige;X-APPLE-RADIUS=500;X-TITLE=Naturum Ottenby 405:geo:16°23'56.8"E,56°11'47.2"N
END:VEVENT
BEGIN:VEVENT
DTSTART;TZID=Europe/Stockholm:20240626T130000
DTEND;TZID=Europe/Stockholm:20240626T133000
DTSTAMP:20260420T130647
CREATED:20240222T150903Z
LAST-MODIFIED:20240226T062206Z
UID:9690-1719406800-1719408600@naturumottenby.se
SUMMARY:Fågel och fångst
DESCRIPTION:Fåglar på nära håll – riktigt nära! Följ med in bakom kulisserna på Ottenby fågelstation och se hur det går till när fåglar fångas och ringmärks. Har du tur kan du få se en fågel i handen! \nGuidningen kan bli full\, så anmäl dig innan till naturum@ottenby.se eller på plats i naturum.
URL:https://naturumottenby.se/aktiviteter/fagel-och-fangst-56/2024-06-26/
LOCATION:naturum Ottenby\, Naturum Ottenby 405\, Degerhamn\, 38065\, Sverige
CATEGORIES:Dagliga guidningar
ATTACH;FMTTYPE=image/jpeg:https://cdn.birdlife.se/wp-content/uploads/sites/20/2023/03/notskrikalabbsan-scaled.jpg
ORGANIZER;CN="naturum Ottenby":MAILTO:naturum@ottenby.se
GEO:56°11'47.2"N;16°23'56.8"E
X-APPLE-STRUCTURED-LOCATION;VALUE=URI;X-ADDRESS=naturum Ottenby Naturum Ottenby 405 Degerhamn 38065 Sverige;X-APPLE-RADIUS=500;X-TITLE=Naturum Ottenby 405:geo:16°23'56.8"E,56°11'47.2"N
END:VEVENT
BEGIN:VEVENT
DTSTART;TZID=Europe/Stockholm:20240625T130000
DTEND;TZID=Europe/Stockholm:20240625T133000
DTSTAMP:20260420T130647
CREATED:20240222T150903Z
LAST-MODIFIED:20240226T062205Z
UID:9689-1719320400-1719322200@naturumottenby.se
SUMMARY:Fågel och fångst
DESCRIPTION:Fåglar på nära håll – riktigt nära! Följ med in bakom kulisserna på Ottenby fågelstation och se hur det går till när fåglar fångas och ringmärks. Har du tur kan du få se en fågel i handen! \nGuidningen kan bli full\, så anmäl dig innan till naturum@ottenby.se eller på plats i naturum.
URL:https://naturumottenby.se/aktiviteter/fagel-och-fangst-56/2024-06-25/
LOCATION:naturum Ottenby\, Naturum Ottenby 405\, Degerhamn\, 38065\, Sverige
CATEGORIES:Dagliga guidningar
ATTACH;FMTTYPE=image/jpeg:https://cdn.birdlife.se/wp-content/uploads/sites/20/2023/03/notskrikalabbsan-scaled.jpg
ORGANIZER;CN="naturum Ottenby":MAILTO:naturum@ottenby.se
GEO:56°11'47.2"N;16°23'56.8"E
X-APPLE-STRUCTURED-LOCATION;VALUE=URI;X-ADDRESS=naturum Ottenby Naturum Ottenby 405 Degerhamn 38065 Sverige;X-APPLE-RADIUS=500;X-TITLE=Naturum Ottenby 405:geo:16°23'56.8"E,56°11'47.2"N
END:VEVENT
BEGIN:VEVENT
DTSTART;TZID=Europe/Stockholm:20240624T130000
DTEND;TZID=Europe/Stockholm:20240624T133000
DTSTAMP:20260420T130647
CREATED:20240222T150903Z
LAST-MODIFIED:20240226T062205Z
UID:9683-1719234000-1719235800@naturumottenby.se
SUMMARY:Fågel och fångst
DESCRIPTION:Fåglar på nära håll – riktigt nära! Följ med in bakom kulisserna på Ottenby fågelstation och se hur det går till när fåglar fångas och ringmärks. Har du tur kan du få se en fågel i handen! \nGuidningen kan bli full\, så anmäl dig innan till naturum@ottenby.se eller på plats i naturum.
URL:https://naturumottenby.se/aktiviteter/fagel-och-fangst-56/2024-06-24/
LOCATION:naturum Ottenby\, Naturum Ottenby 405\, Degerhamn\, 38065\, Sverige
CATEGORIES:Dagliga guidningar
ATTACH;FMTTYPE=image/jpeg:https://cdn.birdlife.se/wp-content/uploads/sites/20/2023/03/notskrikalabbsan-scaled.jpg
ORGANIZER;CN="naturum Ottenby":MAILTO:naturum@ottenby.se
GEO:56°11'47.2"N;16°23'56.8"E
X-APPLE-STRUCTURED-LOCATION;VALUE=URI;X-ADDRESS=naturum Ottenby Naturum Ottenby 405 Degerhamn 38065 Sverige;X-APPLE-RADIUS=500;X-TITLE=Naturum Ottenby 405:geo:16°23'56.8"E,56°11'47.2"N
END:VEVENT
END:VCALENDAR