BEGIN:VCALENDAR
VERSION:2.0
PRODID:-//Naturum Ottenby - ECPv6.15.17.1//NONSGML v1.0//EN
CALSCALE:GREGORIAN
METHOD:PUBLISH
X-ORIGINAL-URL:https://naturumottenby.se
X-WR-CALDESC:Händelser för Naturum Ottenby
REFRESH-INTERVAL;VALUE=DURATION:PT1H
X-Robots-Tag:noindex
X-PUBLISHED-TTL:PT1H
BEGIN:VTIMEZONE
TZID:Europe/Stockholm
BEGIN:DAYLIGHT
TZOFFSETFROM:+0100
TZOFFSETTO:+0200
TZNAME:CEST
DTSTART:20230326T010000
END:DAYLIGHT
BEGIN:STANDARD
TZOFFSETFROM:+0200
TZOFFSETTO:+0100
TZNAME:CET
DTSTART:20231029T010000
END:STANDARD
BEGIN:DAYLIGHT
TZOFFSETFROM:+0100
TZOFFSETTO:+0200
TZNAME:CEST
DTSTART:20240331T010000
END:DAYLIGHT
BEGIN:STANDARD
TZOFFSETFROM:+0200
TZOFFSETTO:+0100
TZNAME:CET
DTSTART:20241027T010000
END:STANDARD
BEGIN:DAYLIGHT
TZOFFSETFROM:+0100
TZOFFSETTO:+0200
TZNAME:CEST
DTSTART:20250330T010000
END:DAYLIGHT
BEGIN:STANDARD
TZOFFSETFROM:+0200
TZOFFSETTO:+0100
TZNAME:CET
DTSTART:20251026T010000
END:STANDARD
END:VTIMEZONE
BEGIN:VEVENT
DTSTART;TZID=Europe/Stockholm:20240711T110000
DTEND;TZID=Europe/Stockholm:20240711T113000
DTSTAMP:20260420T131057
CREATED:20240222T145629Z
LAST-MODIFIED:20240226T061804Z
UID:9542-1720695600-1720697400@naturumottenby.se
SUMMARY:Folk och fyr
DESCRIPTION:En kort introduktion till platsens historia. \nPå den här kortare vandringen i fyrbyn berättar guiden om fyren\, husen och människornas historia. Hur såg det ut har förr? Hur var arbetet på en fyrplats? Och vilka var de som bodde och jobbade här? \nStart utanför naturum Ottenby.
URL:https://naturumottenby.se/aktiviteter/folk-och-fyr-en-kort-introduktion-till-platsens-historia/2024-07-11/
LOCATION:naturum Ottenby\, Naturum Ottenby 405\, Degerhamn\, 38065\, Sverige
CATEGORIES:Dagliga guidningar
ATTACH;FMTTYPE=image/jpeg:https://cdn.birdlife.se/wp-content/uploads/sites/20/2021/02/osu_hems.jpg
ORGANIZER;CN="naturum Ottenby":MAILTO:naturum@ottenby.se
GEO:56°11'47.2"N;16°23'56.8"E
X-APPLE-STRUCTURED-LOCATION;VALUE=URI;X-ADDRESS=naturum Ottenby Naturum Ottenby 405 Degerhamn 38065 Sverige;X-APPLE-RADIUS=500;X-TITLE=Naturum Ottenby 405:geo:16°23'56.8"E,56°11'47.2"N
END:VEVENT
BEGIN:VEVENT
DTSTART;TZID=Europe/Stockholm:20240710T110000
DTEND;TZID=Europe/Stockholm:20240710T113000
DTSTAMP:20260420T131057
CREATED:20240222T145629Z
LAST-MODIFIED:20240226T061803Z
UID:9541-1720609200-1720611000@naturumottenby.se
SUMMARY:Folk och fyr
DESCRIPTION:En kort introduktion till platsens historia. \nPå den här kortare vandringen i fyrbyn berättar guiden om fyren\, husen och människornas historia. Hur såg det ut har förr? Hur var arbetet på en fyrplats? Och vilka var de som bodde och jobbade här? \nStart utanför naturum Ottenby.
URL:https://naturumottenby.se/aktiviteter/folk-och-fyr-en-kort-introduktion-till-platsens-historia/2024-07-10/
LOCATION:naturum Ottenby\, Naturum Ottenby 405\, Degerhamn\, 38065\, Sverige
CATEGORIES:Dagliga guidningar
ATTACH;FMTTYPE=image/jpeg:https://cdn.birdlife.se/wp-content/uploads/sites/20/2021/02/osu_hems.jpg
ORGANIZER;CN="naturum Ottenby":MAILTO:naturum@ottenby.se
GEO:56°11'47.2"N;16°23'56.8"E
X-APPLE-STRUCTURED-LOCATION;VALUE=URI;X-ADDRESS=naturum Ottenby Naturum Ottenby 405 Degerhamn 38065 Sverige;X-APPLE-RADIUS=500;X-TITLE=Naturum Ottenby 405:geo:16°23'56.8"E,56°11'47.2"N
END:VEVENT
BEGIN:VEVENT
DTSTART;TZID=Europe/Stockholm:20240709T110000
DTEND;TZID=Europe/Stockholm:20240709T113000
DTSTAMP:20260420T131057
CREATED:20240222T145629Z
LAST-MODIFIED:20240226T061802Z
UID:9540-1720522800-1720524600@naturumottenby.se
SUMMARY:Folk och fyr
DESCRIPTION:En kort introduktion till platsens historia. \nPå den här kortare vandringen i fyrbyn berättar guiden om fyren\, husen och människornas historia. Hur såg det ut har förr? Hur var arbetet på en fyrplats? Och vilka var de som bodde och jobbade här? \nStart utanför naturum Ottenby.
URL:https://naturumottenby.se/aktiviteter/folk-och-fyr-en-kort-introduktion-till-platsens-historia/2024-07-09/
LOCATION:naturum Ottenby\, Naturum Ottenby 405\, Degerhamn\, 38065\, Sverige
CATEGORIES:Dagliga guidningar
ATTACH;FMTTYPE=image/jpeg:https://cdn.birdlife.se/wp-content/uploads/sites/20/2021/02/osu_hems.jpg
ORGANIZER;CN="naturum Ottenby":MAILTO:naturum@ottenby.se
GEO:56°11'47.2"N;16°23'56.8"E
X-APPLE-STRUCTURED-LOCATION;VALUE=URI;X-ADDRESS=naturum Ottenby Naturum Ottenby 405 Degerhamn 38065 Sverige;X-APPLE-RADIUS=500;X-TITLE=Naturum Ottenby 405:geo:16°23'56.8"E,56°11'47.2"N
END:VEVENT
BEGIN:VEVENT
DTSTART;TZID=Europe/Stockholm:20240708T110000
DTEND;TZID=Europe/Stockholm:20240708T113000
DTSTAMP:20260420T131057
CREATED:20240222T145629Z
LAST-MODIFIED:20240226T061802Z
UID:9539-1720436400-1720438200@naturumottenby.se
SUMMARY:Folk och fyr
DESCRIPTION:En kort introduktion till platsens historia. \nPå den här kortare vandringen i fyrbyn berättar guiden om fyren\, husen och människornas historia. Hur såg det ut har förr? Hur var arbetet på en fyrplats? Och vilka var de som bodde och jobbade här? \nStart utanför naturum Ottenby.
URL:https://naturumottenby.se/aktiviteter/folk-och-fyr-en-kort-introduktion-till-platsens-historia/2024-07-08/
LOCATION:naturum Ottenby\, Naturum Ottenby 405\, Degerhamn\, 38065\, Sverige
CATEGORIES:Dagliga guidningar
ATTACH;FMTTYPE=image/jpeg:https://cdn.birdlife.se/wp-content/uploads/sites/20/2021/02/osu_hems.jpg
ORGANIZER;CN="naturum Ottenby":MAILTO:naturum@ottenby.se
GEO:56°11'47.2"N;16°23'56.8"E
X-APPLE-STRUCTURED-LOCATION;VALUE=URI;X-ADDRESS=naturum Ottenby Naturum Ottenby 405 Degerhamn 38065 Sverige;X-APPLE-RADIUS=500;X-TITLE=Naturum Ottenby 405:geo:16°23'56.8"E,56°11'47.2"N
END:VEVENT
BEGIN:VEVENT
DTSTART;TZID=Europe/Stockholm:20240707T110000
DTEND;TZID=Europe/Stockholm:20240707T113000
DTSTAMP:20260420T131057
CREATED:20240222T145629Z
LAST-MODIFIED:20240226T061801Z
UID:9538-1720350000-1720351800@naturumottenby.se
SUMMARY:Folk och fyr
DESCRIPTION:En kort introduktion till platsens historia. \nPå den här kortare vandringen i fyrbyn berättar guiden om fyren\, husen och människornas historia. Hur såg det ut har förr? Hur var arbetet på en fyrplats? Och vilka var de som bodde och jobbade här? \nStart utanför naturum Ottenby.
URL:https://naturumottenby.se/aktiviteter/folk-och-fyr-en-kort-introduktion-till-platsens-historia/2024-07-07/
LOCATION:naturum Ottenby\, Naturum Ottenby 405\, Degerhamn\, 38065\, Sverige
CATEGORIES:Dagliga guidningar
ATTACH;FMTTYPE=image/jpeg:https://cdn.birdlife.se/wp-content/uploads/sites/20/2021/02/osu_hems.jpg
ORGANIZER;CN="naturum Ottenby":MAILTO:naturum@ottenby.se
GEO:56°11'47.2"N;16°23'56.8"E
X-APPLE-STRUCTURED-LOCATION;VALUE=URI;X-ADDRESS=naturum Ottenby Naturum Ottenby 405 Degerhamn 38065 Sverige;X-APPLE-RADIUS=500;X-TITLE=Naturum Ottenby 405:geo:16°23'56.8"E,56°11'47.2"N
END:VEVENT
BEGIN:VEVENT
DTSTART;TZID=Europe/Stockholm:20240706T110000
DTEND;TZID=Europe/Stockholm:20240706T113000
DTSTAMP:20260420T131057
CREATED:20240222T145629Z
LAST-MODIFIED:20240226T061800Z
UID:9537-1720263600-1720265400@naturumottenby.se
SUMMARY:Folk och fyr
DESCRIPTION:En kort introduktion till platsens historia. \nPå den här kortare vandringen i fyrbyn berättar guiden om fyren\, husen och människornas historia. Hur såg det ut har förr? Hur var arbetet på en fyrplats? Och vilka var de som bodde och jobbade här? \nStart utanför naturum Ottenby.
URL:https://naturumottenby.se/aktiviteter/folk-och-fyr-en-kort-introduktion-till-platsens-historia/2024-07-06/
LOCATION:naturum Ottenby\, Naturum Ottenby 405\, Degerhamn\, 38065\, Sverige
CATEGORIES:Dagliga guidningar
ATTACH;FMTTYPE=image/jpeg:https://cdn.birdlife.se/wp-content/uploads/sites/20/2021/02/osu_hems.jpg
ORGANIZER;CN="naturum Ottenby":MAILTO:naturum@ottenby.se
GEO:56°11'47.2"N;16°23'56.8"E
X-APPLE-STRUCTURED-LOCATION;VALUE=URI;X-ADDRESS=naturum Ottenby Naturum Ottenby 405 Degerhamn 38065 Sverige;X-APPLE-RADIUS=500;X-TITLE=Naturum Ottenby 405:geo:16°23'56.8"E,56°11'47.2"N
END:VEVENT
BEGIN:VEVENT
DTSTART;TZID=Europe/Stockholm:20240705T110000
DTEND;TZID=Europe/Stockholm:20240705T113000
DTSTAMP:20260420T131057
CREATED:20240222T145629Z
LAST-MODIFIED:20240226T061759Z
UID:9536-1720177200-1720179000@naturumottenby.se
SUMMARY:Folk och fyr
DESCRIPTION:En kort introduktion till platsens historia. \nPå den här kortare vandringen i fyrbyn berättar guiden om fyren\, husen och människornas historia. Hur såg det ut har förr? Hur var arbetet på en fyrplats? Och vilka var de som bodde och jobbade här? \nStart utanför naturum Ottenby.
URL:https://naturumottenby.se/aktiviteter/folk-och-fyr-en-kort-introduktion-till-platsens-historia/2024-07-05/
LOCATION:naturum Ottenby\, Naturum Ottenby 405\, Degerhamn\, 38065\, Sverige
CATEGORIES:Dagliga guidningar
ATTACH;FMTTYPE=image/jpeg:https://cdn.birdlife.se/wp-content/uploads/sites/20/2021/02/osu_hems.jpg
ORGANIZER;CN="naturum Ottenby":MAILTO:naturum@ottenby.se
GEO:56°11'47.2"N;16°23'56.8"E
X-APPLE-STRUCTURED-LOCATION;VALUE=URI;X-ADDRESS=naturum Ottenby Naturum Ottenby 405 Degerhamn 38065 Sverige;X-APPLE-RADIUS=500;X-TITLE=Naturum Ottenby 405:geo:16°23'56.8"E,56°11'47.2"N
END:VEVENT
BEGIN:VEVENT
DTSTART;TZID=Europe/Stockholm:20240704T110000
DTEND;TZID=Europe/Stockholm:20240704T113000
DTSTAMP:20260420T131057
CREATED:20240222T145629Z
LAST-MODIFIED:20240226T061754Z
UID:9534-1720090800-1720092600@naturumottenby.se
SUMMARY:Folk och fyr
DESCRIPTION:En kort introduktion till platsens historia. \nPå den här kortare vandringen i fyrbyn berättar guiden om fyren\, husen och människornas historia. Hur såg det ut har förr? Hur var arbetet på en fyrplats? Och vilka var de som bodde och jobbade här? \nStart utanför naturum Ottenby.
URL:https://naturumottenby.se/aktiviteter/folk-och-fyr-en-kort-introduktion-till-platsens-historia/2024-07-04/
LOCATION:naturum Ottenby\, Naturum Ottenby 405\, Degerhamn\, 38065\, Sverige
CATEGORIES:Dagliga guidningar
ATTACH;FMTTYPE=image/jpeg:https://cdn.birdlife.se/wp-content/uploads/sites/20/2021/02/osu_hems.jpg
ORGANIZER;CN="naturum Ottenby":MAILTO:naturum@ottenby.se
GEO:56°11'47.2"N;16°23'56.8"E
X-APPLE-STRUCTURED-LOCATION;VALUE=URI;X-ADDRESS=naturum Ottenby Naturum Ottenby 405 Degerhamn 38065 Sverige;X-APPLE-RADIUS=500;X-TITLE=Naturum Ottenby 405:geo:16°23'56.8"E,56°11'47.2"N
END:VEVENT
BEGIN:VEVENT
DTSTART;TZID=Europe/Stockholm:20240703T110000
DTEND;TZID=Europe/Stockholm:20240703T113000
DTSTAMP:20260420T131057
CREATED:20240222T145629Z
LAST-MODIFIED:20240226T061753Z
UID:9533-1720004400-1720006200@naturumottenby.se
SUMMARY:Folk och fyr
DESCRIPTION:En kort introduktion till platsens historia. \nPå den här kortare vandringen i fyrbyn berättar guiden om fyren\, husen och människornas historia. Hur såg det ut har förr? Hur var arbetet på en fyrplats? Och vilka var de som bodde och jobbade här? \nStart utanför naturum Ottenby.
URL:https://naturumottenby.se/aktiviteter/folk-och-fyr-en-kort-introduktion-till-platsens-historia/2024-07-03/
LOCATION:naturum Ottenby\, Naturum Ottenby 405\, Degerhamn\, 38065\, Sverige
CATEGORIES:Dagliga guidningar
ATTACH;FMTTYPE=image/jpeg:https://cdn.birdlife.se/wp-content/uploads/sites/20/2021/02/osu_hems.jpg
ORGANIZER;CN="naturum Ottenby":MAILTO:naturum@ottenby.se
GEO:56°11'47.2"N;16°23'56.8"E
X-APPLE-STRUCTURED-LOCATION;VALUE=URI;X-ADDRESS=naturum Ottenby Naturum Ottenby 405 Degerhamn 38065 Sverige;X-APPLE-RADIUS=500;X-TITLE=Naturum Ottenby 405:geo:16°23'56.8"E,56°11'47.2"N
END:VEVENT
BEGIN:VEVENT
DTSTART;TZID=Europe/Stockholm:20240702T110000
DTEND;TZID=Europe/Stockholm:20240702T113000
DTSTAMP:20260420T131057
CREATED:20240222T145629Z
LAST-MODIFIED:20240226T061752Z
UID:9532-1719918000-1719919800@naturumottenby.se
SUMMARY:Folk och fyr
DESCRIPTION:En kort introduktion till platsens historia. \nPå den här kortare vandringen i fyrbyn berättar guiden om fyren\, husen och människornas historia. Hur såg det ut har förr? Hur var arbetet på en fyrplats? Och vilka var de som bodde och jobbade här? \nStart utanför naturum Ottenby.
URL:https://naturumottenby.se/aktiviteter/folk-och-fyr-en-kort-introduktion-till-platsens-historia/2024-07-02/
LOCATION:naturum Ottenby\, Naturum Ottenby 405\, Degerhamn\, 38065\, Sverige
CATEGORIES:Dagliga guidningar
ATTACH;FMTTYPE=image/jpeg:https://cdn.birdlife.se/wp-content/uploads/sites/20/2021/02/osu_hems.jpg
ORGANIZER;CN="naturum Ottenby":MAILTO:naturum@ottenby.se
GEO:56°11'47.2"N;16°23'56.8"E
X-APPLE-STRUCTURED-LOCATION;VALUE=URI;X-ADDRESS=naturum Ottenby Naturum Ottenby 405 Degerhamn 38065 Sverige;X-APPLE-RADIUS=500;X-TITLE=Naturum Ottenby 405:geo:16°23'56.8"E,56°11'47.2"N
END:VEVENT
BEGIN:VEVENT
DTSTART;TZID=Europe/Stockholm:20240701T110000
DTEND;TZID=Europe/Stockholm:20240701T113000
DTSTAMP:20260420T131057
CREATED:20240222T145629Z
LAST-MODIFIED:20240226T061752Z
UID:9531-1719831600-1719833400@naturumottenby.se
SUMMARY:Folk och fyr
DESCRIPTION:En kort introduktion till platsens historia. \nPå den här kortare vandringen i fyrbyn berättar guiden om fyren\, husen och människornas historia. Hur såg det ut har förr? Hur var arbetet på en fyrplats? Och vilka var de som bodde och jobbade här? \nStart utanför naturum Ottenby.
URL:https://naturumottenby.se/aktiviteter/folk-och-fyr-en-kort-introduktion-till-platsens-historia/2024-07-01/
LOCATION:naturum Ottenby\, Naturum Ottenby 405\, Degerhamn\, 38065\, Sverige
CATEGORIES:Dagliga guidningar
ATTACH;FMTTYPE=image/jpeg:https://cdn.birdlife.se/wp-content/uploads/sites/20/2021/02/osu_hems.jpg
ORGANIZER;CN="naturum Ottenby":MAILTO:naturum@ottenby.se
GEO:56°11'47.2"N;16°23'56.8"E
X-APPLE-STRUCTURED-LOCATION;VALUE=URI;X-ADDRESS=naturum Ottenby Naturum Ottenby 405 Degerhamn 38065 Sverige;X-APPLE-RADIUS=500;X-TITLE=Naturum Ottenby 405:geo:16°23'56.8"E,56°11'47.2"N
END:VEVENT
BEGIN:VEVENT
DTSTART;TZID=Europe/Stockholm:20240630T110000
DTEND;TZID=Europe/Stockholm:20240630T113000
DTSTAMP:20260420T131057
CREATED:20240222T145629Z
LAST-MODIFIED:20240226T061751Z
UID:9530-1719745200-1719747000@naturumottenby.se
SUMMARY:Folk och fyr
DESCRIPTION:En kort introduktion till platsens historia. \nPå den här kortare vandringen i fyrbyn berättar guiden om fyren\, husen och människornas historia. Hur såg det ut har förr? Hur var arbetet på en fyrplats? Och vilka var de som bodde och jobbade här? \nStart utanför naturum Ottenby.
URL:https://naturumottenby.se/aktiviteter/folk-och-fyr-en-kort-introduktion-till-platsens-historia/2024-06-30/
LOCATION:naturum Ottenby\, Naturum Ottenby 405\, Degerhamn\, 38065\, Sverige
CATEGORIES:Dagliga guidningar
ATTACH;FMTTYPE=image/jpeg:https://cdn.birdlife.se/wp-content/uploads/sites/20/2021/02/osu_hems.jpg
ORGANIZER;CN="naturum Ottenby":MAILTO:naturum@ottenby.se
GEO:56°11'47.2"N;16°23'56.8"E
X-APPLE-STRUCTURED-LOCATION;VALUE=URI;X-ADDRESS=naturum Ottenby Naturum Ottenby 405 Degerhamn 38065 Sverige;X-APPLE-RADIUS=500;X-TITLE=Naturum Ottenby 405:geo:16°23'56.8"E,56°11'47.2"N
END:VEVENT
BEGIN:VEVENT
DTSTART;TZID=Europe/Stockholm:20240629T110000
DTEND;TZID=Europe/Stockholm:20240629T113000
DTSTAMP:20260420T131057
CREATED:20240222T145629Z
LAST-MODIFIED:20240226T061750Z
UID:9529-1719658800-1719660600@naturumottenby.se
SUMMARY:Folk och fyr
DESCRIPTION:En kort introduktion till platsens historia. \nPå den här kortare vandringen i fyrbyn berättar guiden om fyren\, husen och människornas historia. Hur såg det ut har förr? Hur var arbetet på en fyrplats? Och vilka var de som bodde och jobbade här? \nStart utanför naturum Ottenby.
URL:https://naturumottenby.se/aktiviteter/folk-och-fyr-en-kort-introduktion-till-platsens-historia/2024-06-29/
LOCATION:naturum Ottenby\, Naturum Ottenby 405\, Degerhamn\, 38065\, Sverige
CATEGORIES:Dagliga guidningar
ATTACH;FMTTYPE=image/jpeg:https://cdn.birdlife.se/wp-content/uploads/sites/20/2021/02/osu_hems.jpg
ORGANIZER;CN="naturum Ottenby":MAILTO:naturum@ottenby.se
GEO:56°11'47.2"N;16°23'56.8"E
X-APPLE-STRUCTURED-LOCATION;VALUE=URI;X-ADDRESS=naturum Ottenby Naturum Ottenby 405 Degerhamn 38065 Sverige;X-APPLE-RADIUS=500;X-TITLE=Naturum Ottenby 405:geo:16°23'56.8"E,56°11'47.2"N
END:VEVENT
BEGIN:VEVENT
DTSTART;TZID=Europe/Stockholm:20240628T110000
DTEND;TZID=Europe/Stockholm:20240628T113000
DTSTAMP:20260420T131057
CREATED:20240222T145629Z
LAST-MODIFIED:20240226T061749Z
UID:9528-1719572400-1719574200@naturumottenby.se
SUMMARY:Folk och fyr
DESCRIPTION:En kort introduktion till platsens historia. \nPå den här kortare vandringen i fyrbyn berättar guiden om fyren\, husen och människornas historia. Hur såg det ut har förr? Hur var arbetet på en fyrplats? Och vilka var de som bodde och jobbade här? \nStart utanför naturum Ottenby.
URL:https://naturumottenby.se/aktiviteter/folk-och-fyr-en-kort-introduktion-till-platsens-historia/2024-06-28/
LOCATION:naturum Ottenby\, Naturum Ottenby 405\, Degerhamn\, 38065\, Sverige
CATEGORIES:Dagliga guidningar
ATTACH;FMTTYPE=image/jpeg:https://cdn.birdlife.se/wp-content/uploads/sites/20/2021/02/osu_hems.jpg
ORGANIZER;CN="naturum Ottenby":MAILTO:naturum@ottenby.se
GEO:56°11'47.2"N;16°23'56.8"E
X-APPLE-STRUCTURED-LOCATION;VALUE=URI;X-ADDRESS=naturum Ottenby Naturum Ottenby 405 Degerhamn 38065 Sverige;X-APPLE-RADIUS=500;X-TITLE=Naturum Ottenby 405:geo:16°23'56.8"E,56°11'47.2"N
END:VEVENT
BEGIN:VEVENT
DTSTART;TZID=Europe/Stockholm:20240627T110000
DTEND;TZID=Europe/Stockholm:20240627T113000
DTSTAMP:20260420T131057
CREATED:20240222T145629Z
LAST-MODIFIED:20240226T061748Z
UID:9527-1719486000-1719487800@naturumottenby.se
SUMMARY:Folk och fyr
DESCRIPTION:En kort introduktion till platsens historia. \nPå den här kortare vandringen i fyrbyn berättar guiden om fyren\, husen och människornas historia. Hur såg det ut har förr? Hur var arbetet på en fyrplats? Och vilka var de som bodde och jobbade här? \nStart utanför naturum Ottenby.
URL:https://naturumottenby.se/aktiviteter/folk-och-fyr-en-kort-introduktion-till-platsens-historia/2024-06-27/
LOCATION:naturum Ottenby\, Naturum Ottenby 405\, Degerhamn\, 38065\, Sverige
CATEGORIES:Dagliga guidningar
ATTACH;FMTTYPE=image/jpeg:https://cdn.birdlife.se/wp-content/uploads/sites/20/2021/02/osu_hems.jpg
ORGANIZER;CN="naturum Ottenby":MAILTO:naturum@ottenby.se
GEO:56°11'47.2"N;16°23'56.8"E
X-APPLE-STRUCTURED-LOCATION;VALUE=URI;X-ADDRESS=naturum Ottenby Naturum Ottenby 405 Degerhamn 38065 Sverige;X-APPLE-RADIUS=500;X-TITLE=Naturum Ottenby 405:geo:16°23'56.8"E,56°11'47.2"N
END:VEVENT
BEGIN:VEVENT
DTSTART;TZID=Europe/Stockholm:20240626T110000
DTEND;TZID=Europe/Stockholm:20240626T113000
DTSTAMP:20260420T131057
CREATED:20240222T145629Z
LAST-MODIFIED:20240226T061747Z
UID:9526-1719399600-1719401400@naturumottenby.se
SUMMARY:Folk och fyr
DESCRIPTION:En kort introduktion till platsens historia. \nPå den här kortare vandringen i fyrbyn berättar guiden om fyren\, husen och människornas historia. Hur såg det ut har förr? Hur var arbetet på en fyrplats? Och vilka var de som bodde och jobbade här? \nStart utanför naturum Ottenby.
URL:https://naturumottenby.se/aktiviteter/folk-och-fyr-en-kort-introduktion-till-platsens-historia/2024-06-26/
LOCATION:naturum Ottenby\, Naturum Ottenby 405\, Degerhamn\, 38065\, Sverige
CATEGORIES:Dagliga guidningar
ATTACH;FMTTYPE=image/jpeg:https://cdn.birdlife.se/wp-content/uploads/sites/20/2021/02/osu_hems.jpg
ORGANIZER;CN="naturum Ottenby":MAILTO:naturum@ottenby.se
GEO:56°11'47.2"N;16°23'56.8"E
X-APPLE-STRUCTURED-LOCATION;VALUE=URI;X-ADDRESS=naturum Ottenby Naturum Ottenby 405 Degerhamn 38065 Sverige;X-APPLE-RADIUS=500;X-TITLE=Naturum Ottenby 405:geo:16°23'56.8"E,56°11'47.2"N
END:VEVENT
BEGIN:VEVENT
DTSTART;TZID=Europe/Stockholm:20240625T110000
DTEND;TZID=Europe/Stockholm:20240625T113000
DTSTAMP:20260420T131057
CREATED:20240222T145629Z
LAST-MODIFIED:20240226T061746Z
UID:9525-1719313200-1719315000@naturumottenby.se
SUMMARY:Folk och fyr
DESCRIPTION:En kort introduktion till platsens historia. \nPå den här kortare vandringen i fyrbyn berättar guiden om fyren\, husen och människornas historia. Hur såg det ut har förr? Hur var arbetet på en fyrplats? Och vilka var de som bodde och jobbade här? \nStart utanför naturum Ottenby.
URL:https://naturumottenby.se/aktiviteter/folk-och-fyr-en-kort-introduktion-till-platsens-historia/2024-06-25/
LOCATION:naturum Ottenby\, Naturum Ottenby 405\, Degerhamn\, 38065\, Sverige
CATEGORIES:Dagliga guidningar
ATTACH;FMTTYPE=image/jpeg:https://cdn.birdlife.se/wp-content/uploads/sites/20/2021/02/osu_hems.jpg
ORGANIZER;CN="naturum Ottenby":MAILTO:naturum@ottenby.se
GEO:56°11'47.2"N;16°23'56.8"E
X-APPLE-STRUCTURED-LOCATION;VALUE=URI;X-ADDRESS=naturum Ottenby Naturum Ottenby 405 Degerhamn 38065 Sverige;X-APPLE-RADIUS=500;X-TITLE=Naturum Ottenby 405:geo:16°23'56.8"E,56°11'47.2"N
END:VEVENT
BEGIN:VEVENT
DTSTART;TZID=Europe/Stockholm:20240624T110000
DTEND;TZID=Europe/Stockholm:20240624T113000
DTSTAMP:20260420T131057
CREATED:20240222T145629Z
LAST-MODIFIED:20240226T062542Z
UID:9522-1719226800-1719228600@naturumottenby.se
SUMMARY:Folk och fyr
DESCRIPTION:En kort introduktion till platsens historia. \nPå den här kortare vandringen i fyrbyn berättar guiden om fyren\, husen och människornas historia. Hur såg det ut har förr? Hur var arbetet på en fyrplats? Och vilka var de som bodde och jobbade här? \nStart utanför naturum Ottenby.
URL:https://naturumottenby.se/aktiviteter/folk-och-fyr-en-kort-introduktion-till-platsens-historia/2024-06-24/
LOCATION:naturum Ottenby\, Naturum Ottenby 405\, Degerhamn\, 38065\, Sverige
CATEGORIES:Dagliga guidningar
ATTACH;FMTTYPE=image/jpeg:https://cdn.birdlife.se/wp-content/uploads/sites/20/2021/02/osu_hems.jpg
ORGANIZER;CN="naturum Ottenby":MAILTO:naturum@ottenby.se
GEO:56°11'47.2"N;16°23'56.8"E
X-APPLE-STRUCTURED-LOCATION;VALUE=URI;X-ADDRESS=naturum Ottenby Naturum Ottenby 405 Degerhamn 38065 Sverige;X-APPLE-RADIUS=500;X-TITLE=Naturum Ottenby 405:geo:16°23'56.8"E,56°11'47.2"N
END:VEVENT
END:VCALENDAR