BEGIN:VCALENDAR
VERSION:2.0
PRODID:-//Naturum Ottenby - ECPv6.15.17.1//NONSGML v1.0//EN
CALSCALE:GREGORIAN
METHOD:PUBLISH
X-WR-CALNAME:Naturum Ottenby
X-ORIGINAL-URL:https://naturumottenby.se
X-WR-CALDESC:Händelser för Naturum Ottenby
REFRESH-INTERVAL;VALUE=DURATION:PT1H
X-Robots-Tag:noindex
X-PUBLISHED-TTL:PT1H
BEGIN:VTIMEZONE
TZID:Europe/Stockholm
BEGIN:DAYLIGHT
TZOFFSETFROM:+0100
TZOFFSETTO:+0200
TZNAME:CEST
DTSTART:20250330T010000
END:DAYLIGHT
BEGIN:STANDARD
TZOFFSETFROM:+0200
TZOFFSETTO:+0100
TZNAME:CET
DTSTART:20251026T010000
END:STANDARD
BEGIN:DAYLIGHT
TZOFFSETFROM:+0100
TZOFFSETTO:+0200
TZNAME:CEST
DTSTART:20260329T010000
END:DAYLIGHT
BEGIN:STANDARD
TZOFFSETFROM:+0200
TZOFFSETTO:+0100
TZNAME:CET
DTSTART:20261025T010000
END:STANDARD
BEGIN:DAYLIGHT
TZOFFSETFROM:+0100
TZOFFSETTO:+0200
TZNAME:CEST
DTSTART:20270328T010000
END:DAYLIGHT
BEGIN:STANDARD
TZOFFSETFROM:+0200
TZOFFSETTO:+0100
TZNAME:CET
DTSTART:20271031T010000
END:STANDARD
END:VTIMEZONE
BEGIN:VEVENT
DTSTART;TZID=Europe/Stockholm:20260610T173000
DTEND;TZID=Europe/Stockholm:20260610T190000
DTSTAMP:20260421T123229
CREATED:20260415T093218Z
LAST-MODIFIED:20260415T093218Z
UID:14359-1781112600-1781118000@naturumottenby.se
SUMMARY:Föredragshylla: Öländska nattfjärilar
DESCRIPTION:Ett föredrag som lite speglar mångfalden hos våra nattfjärilar. Vi kommer att möta både vanliga och ovanliga\, ja i vissa fall mycket ovanliga fjärilar som sällan ses av de som bara njuter av Öland när solen är uppe. \nNi kommer också få demonstrerat hur ni själva kan ta del av vad nätterna kan bjuda på. \nFöreläsare: Håkan Johansson\nFoto\, skäckspinnare av Håkan Johansson \nDet går bra att bara dyka upp när föreläsningen startar men det kan bli fullbokat\, så vill du vara säker på en plats anmäl dig till naturum@ottenby.se.
URL:https://naturumottenby.se/aktiviteter/foredragshylla-olandska-nattfjarilar/
LOCATION:naturum Ottenby\, Naturum Ottenby 405\, Degerhamn\, 38065\, Sverige
CATEGORIES:föredragshylla
ATTACH;FMTTYPE=image/jpeg:https://cdn.birdlife.se/wp-content/uploads/sites/20/2026/04/original-BCBFE0A5-2D15-4E94-9BF0-BA28B15BD9C6.jpeg
ORGANIZER;CN="naturum Ottenby":MAILTO:naturum@ottenby.se
GEO:56°11'47.2"N;16°23'56.8"E
X-APPLE-STRUCTURED-LOCATION;VALUE=URI;X-ADDRESS=naturum Ottenby Naturum Ottenby 405 Degerhamn 38065 Sverige;X-APPLE-RADIUS=500;X-TITLE=Naturum Ottenby 405:geo:16°23'56.8"E,56°11'47.2"N
END:VEVENT
END:VCALENDAR