BEGIN:VCALENDAR
VERSION:2.0
PRODID:-//Naturum Ottenby - ECPv6.15.17.1//NONSGML v1.0//EN
CALSCALE:GREGORIAN
METHOD:PUBLISH
X-WR-CALNAME:Naturum Ottenby
X-ORIGINAL-URL:https://naturumottenby.se
X-WR-CALDESC:Händelser för Naturum Ottenby
REFRESH-INTERVAL;VALUE=DURATION:PT1H
X-Robots-Tag:noindex
X-PUBLISHED-TTL:PT1H
BEGIN:VTIMEZONE
TZID:Europe/Stockholm
BEGIN:DAYLIGHT
TZOFFSETFROM:+0100
TZOFFSETTO:+0200
TZNAME:CEST
DTSTART:20230326T010000
END:DAYLIGHT
BEGIN:STANDARD
TZOFFSETFROM:+0200
TZOFFSETTO:+0100
TZNAME:CET
DTSTART:20231029T010000
END:STANDARD
BEGIN:DAYLIGHT
TZOFFSETFROM:+0100
TZOFFSETTO:+0200
TZNAME:CEST
DTSTART:20240331T010000
END:DAYLIGHT
BEGIN:STANDARD
TZOFFSETFROM:+0200
TZOFFSETTO:+0100
TZNAME:CET
DTSTART:20241027T010000
END:STANDARD
BEGIN:DAYLIGHT
TZOFFSETFROM:+0100
TZOFFSETTO:+0200
TZNAME:CEST
DTSTART:20250330T010000
END:DAYLIGHT
BEGIN:STANDARD
TZOFFSETFROM:+0200
TZOFFSETTO:+0100
TZNAME:CET
DTSTART:20251026T010000
END:STANDARD
END:VTIMEZONE
BEGIN:VEVENT
DTSTART;TZID=Europe/Stockholm:20240502T170000
DTEND;TZID=Europe/Stockholm:20240502T180000
DTSTAMP:20260420T161623
CREATED:20240327T072815Z
LAST-MODIFIED:20240404T130144Z
UID:10623-1714669200-1714672800@naturumottenby.se
SUMMARY:Föredragshyllan: Nattskärrans flyttning ur ett Ölandsperspektiv
DESCRIPTION:Gabriel Norevik berättar om nattskärror. \nLagom till att de första nattskärrorna kommer tillbaka till häckplatserna här i norr kommer Gabriel Norevik berätta lite om vad de har lärt sig om nattskärrornas flyttning. Han utgår från den forskning han varit involverad i under det senaste decenniet. \nDrop-in\, men platserna är begränsade så vill du vara säker på en plats kan du boka en i förväg genom att säga till i naturum eller mejla till naturum@ottenby.se
URL:https://naturumottenby.se/aktiviteter/foredragshyllan-nattskarror/
LOCATION:naturum Ottenby\, Naturum Ottenby 405\, Degerhamn\, 38065\, Sverige
CATEGORIES:Guidning
ATTACH;FMTTYPE=image/jpeg:https://cdn.birdlife.se/wp-content/uploads/sites/20/2020/03/89073556_205747714114115_6655869539680518144_n-1.jpg
ORGANIZER;CN="naturum Ottenby":MAILTO:naturum@ottenby.se
GEO:56°11'47.2"N;16°23'56.8"E
X-APPLE-STRUCTURED-LOCATION;VALUE=URI;X-ADDRESS=naturum Ottenby Naturum Ottenby 405 Degerhamn 38065 Sverige;X-APPLE-RADIUS=500;X-TITLE=Naturum Ottenby 405:geo:16°23'56.8"E,56°11'47.2"N
END:VEVENT
END:VCALENDAR