BEGIN:VCALENDAR
VERSION:2.0
PRODID:-//Naturum Ottenby - ECPv6.15.17.1//NONSGML v1.0//EN
CALSCALE:GREGORIAN
METHOD:PUBLISH
X-ORIGINAL-URL:https://naturumottenby.se
X-WR-CALDESC:Händelser för Naturum Ottenby
REFRESH-INTERVAL;VALUE=DURATION:PT1H
X-Robots-Tag:noindex
X-PUBLISHED-TTL:PT1H
BEGIN:VTIMEZONE
TZID:Europe/Stockholm
BEGIN:DAYLIGHT
TZOFFSETFROM:+0100
TZOFFSETTO:+0200
TZNAME:CEST
DTSTART:20230326T010000
END:DAYLIGHT
BEGIN:STANDARD
TZOFFSETFROM:+0200
TZOFFSETTO:+0100
TZNAME:CET
DTSTART:20231029T010000
END:STANDARD
BEGIN:DAYLIGHT
TZOFFSETFROM:+0100
TZOFFSETTO:+0200
TZNAME:CEST
DTSTART:20240331T010000
END:DAYLIGHT
BEGIN:STANDARD
TZOFFSETFROM:+0200
TZOFFSETTO:+0100
TZNAME:CET
DTSTART:20241027T010000
END:STANDARD
BEGIN:DAYLIGHT
TZOFFSETFROM:+0100
TZOFFSETTO:+0200
TZNAME:CEST
DTSTART:20250330T010000
END:DAYLIGHT
BEGIN:STANDARD
TZOFFSETFROM:+0200
TZOFFSETTO:+0100
TZNAME:CET
DTSTART:20251026T010000
END:STANDARD
END:VTIMEZONE
BEGIN:VEVENT
DTSTART;TZID=Europe/Stockholm:20240818T100000
DTEND;TZID=Europe/Stockholm:20240818T120000
DTSTAMP:20260420T080700
CREATED:20240222T143146Z
LAST-MODIFIED:20240708T103824Z
UID:9428-1723975200-1723982400@naturumottenby.se
SUMMARY:Skådarskola: Vadare och änder
DESCRIPTION:Vadare och änder kan vara svåra\, speciellt under sensommaren när vuxna fåglar börjar rugga till vinterdräkt och det är många ungfåglar på plats. Vi väljer ut ett antal och går igenom de bästa kännetecknen. I Västerstadsviken går fåglarna nära vilket gör att vi kan se dem bra. Skådarskola är för dig som är ny fågelskådare och som vill lära dig fåglar från grunden. Kikare finns att låna. \nAnmälan till naturum@ottenby.se
URL:https://naturumottenby.se/aktiviteter/skadarskola-vadare-och-ander/
LOCATION:Västerstadsviken\, Eckelsudde/västerstadsviken\, Mörbylånga\, 38661
CATEGORIES:Guidning
ATTACH;FMTTYPE=image/jpeg:https://cdn.birdlife.se/wp-content/uploads/sites/20/2020/03/25-juli.jpg
ORGANIZER;CN="naturum Ottenby":MAILTO:naturum@ottenby.se
GEO:56.4150669;16.4060114
X-APPLE-STRUCTURED-LOCATION;VALUE=URI;X-ADDRESS=Västerstadsviken Eckelsudde/västerstadsviken Mörbylånga 38661;X-APPLE-RADIUS=500;X-TITLE=Eckelsudde/västerstadsviken:geo:16.4060114,56.4150669
END:VEVENT
BEGIN:VEVENT
DTSTART;TZID=Europe/Stockholm:20240824T110000
DTEND;TZID=Europe/Stockholm:20240824T150000
DTSTAMP:20260420T080700
CREATED:20240815T071556Z
LAST-MODIFIED:20240816T055941Z
UID:10788-1724497200-1724511600@naturumottenby.se
SUMMARY:Östersjödag i Borgholm
DESCRIPTION:Nu är det dags för årets Östersjödag\, i år är vi i Socitetsparken i Borgholm mellan kl. 11 och 15.Under dagen kan du håva i havet\, gå tipspromenad\, tävla i 3-kamp\, köra Naturfalken\, prata med oss om Östersjön och se vad vi lyckats håva upp. Tema för i år är dagvatten och skräp i havet och hur det påverkar alla de som lever i Östersjön.\nPå plats under dagen är Borgholms kommun\, Ölands Naturskyddsförening\, Borgholm energi\, Rotarys Östersjöinitiativ\, Ölands Vattenråd\, Länsstyrelsen Kalmar län och Ölands båda naturum.
URL:https://naturumottenby.se/aktiviteter/ostersjodag-i-borgholm/
LOCATION:Borgholm\, Societetsparken\, Borgholm\, 387 32\, Sweden
CATEGORIES:Guidning
ATTACH;FMTTYPE=image/jpeg:https://cdn.birdlife.se/wp-content/uploads/sites/20/2024/08/IMG_8378photo-scaled.jpg
ORGANIZER;CN="naturum Ottenby":MAILTO:naturum@ottenby.se
END:VEVENT
END:VCALENDAR