BEGIN:VCALENDAR
VERSION:2.0
PRODID:-//Naturum Ottenby - ECPv6.15.17.1//NONSGML v1.0//EN
CALSCALE:GREGORIAN
METHOD:PUBLISH
X-WR-CALNAME:Naturum Ottenby
X-ORIGINAL-URL:https://naturumottenby.se
X-WR-CALDESC:Händelser för Naturum Ottenby
REFRESH-INTERVAL;VALUE=DURATION:PT1H
X-Robots-Tag:noindex
X-PUBLISHED-TTL:PT1H
BEGIN:VTIMEZONE
TZID:Europe/Stockholm
BEGIN:DAYLIGHT
TZOFFSETFROM:+0100
TZOFFSETTO:+0200
TZNAME:CEST
DTSTART:20230326T010000
END:DAYLIGHT
BEGIN:STANDARD
TZOFFSETFROM:+0200
TZOFFSETTO:+0100
TZNAME:CET
DTSTART:20231029T010000
END:STANDARD
BEGIN:DAYLIGHT
TZOFFSETFROM:+0100
TZOFFSETTO:+0200
TZNAME:CEST
DTSTART:20240331T010000
END:DAYLIGHT
BEGIN:STANDARD
TZOFFSETFROM:+0200
TZOFFSETTO:+0100
TZNAME:CET
DTSTART:20241027T010000
END:STANDARD
BEGIN:DAYLIGHT
TZOFFSETFROM:+0100
TZOFFSETTO:+0200
TZNAME:CEST
DTSTART:20250330T010000
END:DAYLIGHT
BEGIN:STANDARD
TZOFFSETFROM:+0200
TZOFFSETTO:+0100
TZNAME:CET
DTSTART:20251026T010000
END:STANDARD
END:VTIMEZONE
BEGIN:VEVENT
DTSTART;TZID=Europe/Stockholm:20240928T110000
DTEND;TZID=Europe/Stockholm:20240928T130000
DTSTAMP:20260420T081211
CREATED:20240222T143700Z
LAST-MODIFIED:20240222T143700Z
UID:9432-1727521200-1727528400@naturumottenby.se
SUMMARY:Skådarskola: Börja skåda fåglar
DESCRIPTION:Är du nyfiken på fåglar och undrar var du ska börjar som fågelskådare? Vi samlas på parkeringen till Beijershamns naturreservat. Där delar vi ut kikare och ger tips på vad du kan tänka på. Vi går igenom lite olika arter vi kommer att se och berättar vad du kan tänka på för att känna igen dem. Sen går vi en sväng i långsam takt och hjälps åt att hitta fåglar att titta på. Skådarskolan är för dig som är ny fågelskådare och som vill lära dig från grunden. \nKikare finns att låna. \nAnmäl dig innan till naturum@ottenby.se
URL:https://naturumottenby.se/aktiviteter/skadarskola-borja-skada-faglar/
LOCATION:Beijershamns naturreservat\, Beijershamn\, Mörbylånga\, 380 62\, Sverige
CATEGORIES:Guidning
ATTACH;FMTTYPE=image/jpeg:https://cdn.birdlife.se/wp-content/uploads/sites/20/2020/03/24-okt-1nov.jpg
ORGANIZER;CN="naturum Ottenby":MAILTO:naturum@ottenby.se
END:VEVENT
END:VCALENDAR