BEGIN:VCALENDAR
VERSION:2.0
PRODID:-//Naturum Ottenby - ECPv6.15.17.1//NONSGML v1.0//EN
CALSCALE:GREGORIAN
METHOD:PUBLISH
X-WR-CALNAME:Naturum Ottenby
X-ORIGINAL-URL:https://naturumottenby.se
X-WR-CALDESC:Händelser för Naturum Ottenby
REFRESH-INTERVAL;VALUE=DURATION:PT1H
X-Robots-Tag:noindex
X-PUBLISHED-TTL:PT1H
BEGIN:VTIMEZONE
TZID:Europe/Stockholm
BEGIN:DAYLIGHT
TZOFFSETFROM:+0100
TZOFFSETTO:+0200
TZNAME:CEST
DTSTART:20230326T010000
END:DAYLIGHT
BEGIN:STANDARD
TZOFFSETFROM:+0200
TZOFFSETTO:+0100
TZNAME:CET
DTSTART:20231029T010000
END:STANDARD
BEGIN:DAYLIGHT
TZOFFSETFROM:+0100
TZOFFSETTO:+0200
TZNAME:CEST
DTSTART:20240331T010000
END:DAYLIGHT
BEGIN:STANDARD
TZOFFSETFROM:+0200
TZOFFSETTO:+0100
TZNAME:CET
DTSTART:20241027T010000
END:STANDARD
BEGIN:DAYLIGHT
TZOFFSETFROM:+0100
TZOFFSETTO:+0200
TZNAME:CEST
DTSTART:20250330T010000
END:DAYLIGHT
BEGIN:STANDARD
TZOFFSETFROM:+0200
TZOFFSETTO:+0100
TZNAME:CET
DTSTART:20251026T010000
END:STANDARD
END:VTIMEZONE
BEGIN:VEVENT
DTSTART;TZID=Europe/Stockholm:20240602T100000
DTEND;TZID=Europe/Stockholm:20240602T120000
DTSTAMP:20260420T130538
CREATED:20240222T143000Z
LAST-MODIFIED:20240222T143000Z
UID:9426-1717322400-1717329600@naturumottenby.se
SUMMARY:Skådarskola: Vadare och tärnor
DESCRIPTION:Några vadare och tärnor har börjat häcka längs med Ölands stränder. Andra är fortfarande på väg norrut. Vi börjar med att går igenom vad som är bra att tänka på för att se skillnad mellan olika arter. Sen ger vi oss ut i Beijershamn och tränar på det vi gått igenom. Du får själv hitta dina bästa sätt att se skillnad på arterna. Skådarskolan är för dig som är ny fåglskådare och som vill lära dig fåglar från grunden. \nKikare finns att låna. \nAnmäl dig innan genom att mejla till naturum@ottenby.se.
URL:https://naturumottenby.se/aktiviteter/skadarskola-vadare-och-tarnor-3/
LOCATION:Beijershamns naturreservat\, Beijershamn\, Mörbylånga\, 380 62\, Sverige
CATEGORIES:Guidning
ATTACH;FMTTYPE=image/jpeg:https://cdn.birdlife.se/wp-content/uploads/sites/20/2020/03/R%C3%B6dbena_3-2-e1709030252915.jpg
ORGANIZER;CN="naturum Ottenby":MAILTO:naturum@ottenby.se
END:VEVENT
END:VCALENDAR