BEGIN:VCALENDAR
VERSION:2.0
PRODID:-//Naturum Ottenby - ECPv6.15.17.1//NONSGML v1.0//EN
CALSCALE:GREGORIAN
METHOD:PUBLISH
X-ORIGINAL-URL:https://naturumottenby.se
X-WR-CALDESC:Händelser för Naturum Ottenby
REFRESH-INTERVAL;VALUE=DURATION:PT1H
X-Robots-Tag:noindex
X-PUBLISHED-TTL:PT1H
BEGIN:VTIMEZONE
TZID:Europe/Stockholm
BEGIN:DAYLIGHT
TZOFFSETFROM:+0100
TZOFFSETTO:+0200
TZNAME:CEST
DTSTART:20230326T010000
END:DAYLIGHT
BEGIN:STANDARD
TZOFFSETFROM:+0200
TZOFFSETTO:+0100
TZNAME:CET
DTSTART:20231029T010000
END:STANDARD
BEGIN:DAYLIGHT
TZOFFSETFROM:+0100
TZOFFSETTO:+0200
TZNAME:CEST
DTSTART:20240331T010000
END:DAYLIGHT
BEGIN:STANDARD
TZOFFSETFROM:+0200
TZOFFSETTO:+0100
TZNAME:CET
DTSTART:20241027T010000
END:STANDARD
BEGIN:DAYLIGHT
TZOFFSETFROM:+0100
TZOFFSETTO:+0200
TZNAME:CEST
DTSTART:20250330T010000
END:DAYLIGHT
BEGIN:STANDARD
TZOFFSETFROM:+0200
TZOFFSETTO:+0100
TZNAME:CET
DTSTART:20251026T010000
END:STANDARD
END:VTIMEZONE
BEGIN:VEVENT
DTSTART;TZID=Europe/Stockholm:20240711T100000
DTEND;TZID=Europe/Stockholm:20240711T104500
DTSTAMP:20260420T130929
CREATED:20240222T145054Z
LAST-MODIFIED:20240318T130947Z
UID:9520-1720692000-1720694700@naturumottenby.se
SUMMARY:Sälar och fåglar
DESCRIPTION:På den här guidningen fokuserar vi på fåglarna och sälarna som finns runt udden för dagen. Guiden hjälper till att artbestämma och ger tips på hur du kan känna igen arterna. Du kan få höra mer om varför fåglar flyttar\, varför Ölands södra udde är en bra plats för just fåglar eller om Östersjöns spännande värld. \nKikare finns att låna. \nStart utanför naturum Ottenby.
URL:https://naturumottenby.se/aktiviteter/uddens-faglar-och-salar-18/2024-07-11/
LOCATION:naturum Ottenby\, Naturum Ottenby 405\, Degerhamn\, 38065\, Sverige
CATEGORIES:Dagliga guidningar
ATTACH;FMTTYPE=image/jpeg:https://naturumottenby.se/wp-content/uploads/sites/20/2018/08/Silvertärna_3.jpg
ORGANIZER;CN="naturum Ottenby":MAILTO:naturum@ottenby.se
GEO:56°11'47.2"N;16°23'56.8"E
X-APPLE-STRUCTURED-LOCATION;VALUE=URI;X-ADDRESS=naturum Ottenby Naturum Ottenby 405 Degerhamn 38065 Sverige;X-APPLE-RADIUS=500;X-TITLE=Naturum Ottenby 405:geo:16°23'56.8"E,56°11'47.2"N
END:VEVENT
BEGIN:VEVENT
DTSTART;TZID=Europe/Stockholm:20240710T100000
DTEND;TZID=Europe/Stockholm:20240710T104500
DTSTAMP:20260420T130929
CREATED:20240222T145054Z
LAST-MODIFIED:20240318T130946Z
UID:9519-1720605600-1720608300@naturumottenby.se
SUMMARY:Sälar och fåglar
DESCRIPTION:På den här guidningen fokuserar vi på fåglarna och sälarna som finns runt udden för dagen. Guiden hjälper till att artbestämma och ger tips på hur du kan känna igen arterna. Du kan få höra mer om varför fåglar flyttar\, varför Ölands södra udde är en bra plats för just fåglar eller om Östersjöns spännande värld. \nKikare finns att låna. \nStart utanför naturum Ottenby.
URL:https://naturumottenby.se/aktiviteter/uddens-faglar-och-salar-18/2024-07-10/
LOCATION:naturum Ottenby\, Naturum Ottenby 405\, Degerhamn\, 38065\, Sverige
CATEGORIES:Dagliga guidningar
ATTACH;FMTTYPE=image/jpeg:https://naturumottenby.se/wp-content/uploads/sites/20/2018/08/Silvertärna_3.jpg
ORGANIZER;CN="naturum Ottenby":MAILTO:naturum@ottenby.se
GEO:56°11'47.2"N;16°23'56.8"E
X-APPLE-STRUCTURED-LOCATION;VALUE=URI;X-ADDRESS=naturum Ottenby Naturum Ottenby 405 Degerhamn 38065 Sverige;X-APPLE-RADIUS=500;X-TITLE=Naturum Ottenby 405:geo:16°23'56.8"E,56°11'47.2"N
END:VEVENT
BEGIN:VEVENT
DTSTART;TZID=Europe/Stockholm:20240709T100000
DTEND;TZID=Europe/Stockholm:20240709T104500
DTSTAMP:20260420T130929
CREATED:20240222T145054Z
LAST-MODIFIED:20240318T130945Z
UID:9518-1720519200-1720521900@naturumottenby.se
SUMMARY:Sälar och fåglar
DESCRIPTION:På den här guidningen fokuserar vi på fåglarna och sälarna som finns runt udden för dagen. Guiden hjälper till att artbestämma och ger tips på hur du kan känna igen arterna. Du kan få höra mer om varför fåglar flyttar\, varför Ölands södra udde är en bra plats för just fåglar eller om Östersjöns spännande värld. \nKikare finns att låna. \nStart utanför naturum Ottenby.
URL:https://naturumottenby.se/aktiviteter/uddens-faglar-och-salar-18/2024-07-09/
LOCATION:naturum Ottenby\, Naturum Ottenby 405\, Degerhamn\, 38065\, Sverige
CATEGORIES:Dagliga guidningar
ATTACH;FMTTYPE=image/jpeg:https://naturumottenby.se/wp-content/uploads/sites/20/2018/08/Silvertärna_3.jpg
ORGANIZER;CN="naturum Ottenby":MAILTO:naturum@ottenby.se
GEO:56°11'47.2"N;16°23'56.8"E
X-APPLE-STRUCTURED-LOCATION;VALUE=URI;X-ADDRESS=naturum Ottenby Naturum Ottenby 405 Degerhamn 38065 Sverige;X-APPLE-RADIUS=500;X-TITLE=Naturum Ottenby 405:geo:16°23'56.8"E,56°11'47.2"N
END:VEVENT
BEGIN:VEVENT
DTSTART;TZID=Europe/Stockholm:20240708T100000
DTEND;TZID=Europe/Stockholm:20240708T104500
DTSTAMP:20260420T130929
CREATED:20240222T145054Z
LAST-MODIFIED:20240318T130945Z
UID:9517-1720432800-1720435500@naturumottenby.se
SUMMARY:Sälar och fåglar
DESCRIPTION:På den här guidningen fokuserar vi på fåglarna och sälarna som finns runt udden för dagen. Guiden hjälper till att artbestämma och ger tips på hur du kan känna igen arterna. Du kan få höra mer om varför fåglar flyttar\, varför Ölands södra udde är en bra plats för just fåglar eller om Östersjöns spännande värld. \nKikare finns att låna. \nStart utanför naturum Ottenby.
URL:https://naturumottenby.se/aktiviteter/uddens-faglar-och-salar-18/2024-07-08/
LOCATION:naturum Ottenby\, Naturum Ottenby 405\, Degerhamn\, 38065\, Sverige
CATEGORIES:Dagliga guidningar
ATTACH;FMTTYPE=image/jpeg:https://naturumottenby.se/wp-content/uploads/sites/20/2018/08/Silvertärna_3.jpg
ORGANIZER;CN="naturum Ottenby":MAILTO:naturum@ottenby.se
GEO:56°11'47.2"N;16°23'56.8"E
X-APPLE-STRUCTURED-LOCATION;VALUE=URI;X-ADDRESS=naturum Ottenby Naturum Ottenby 405 Degerhamn 38065 Sverige;X-APPLE-RADIUS=500;X-TITLE=Naturum Ottenby 405:geo:16°23'56.8"E,56°11'47.2"N
END:VEVENT
BEGIN:VEVENT
DTSTART;TZID=Europe/Stockholm:20240707T100000
DTEND;TZID=Europe/Stockholm:20240707T104500
DTSTAMP:20260420T130929
CREATED:20240222T145054Z
LAST-MODIFIED:20240318T130944Z
UID:9516-1720346400-1720349100@naturumottenby.se
SUMMARY:Sälar och fåglar
DESCRIPTION:På den här guidningen fokuserar vi på fåglarna och sälarna som finns runt udden för dagen. Guiden hjälper till att artbestämma och ger tips på hur du kan känna igen arterna. Du kan få höra mer om varför fåglar flyttar\, varför Ölands södra udde är en bra plats för just fåglar eller om Östersjöns spännande värld. \nKikare finns att låna. \nStart utanför naturum Ottenby.
URL:https://naturumottenby.se/aktiviteter/uddens-faglar-och-salar-18/2024-07-07/
LOCATION:naturum Ottenby\, Naturum Ottenby 405\, Degerhamn\, 38065\, Sverige
CATEGORIES:Dagliga guidningar
ATTACH;FMTTYPE=image/jpeg:https://naturumottenby.se/wp-content/uploads/sites/20/2018/08/Silvertärna_3.jpg
ORGANIZER;CN="naturum Ottenby":MAILTO:naturum@ottenby.se
GEO:56°11'47.2"N;16°23'56.8"E
X-APPLE-STRUCTURED-LOCATION;VALUE=URI;X-ADDRESS=naturum Ottenby Naturum Ottenby 405 Degerhamn 38065 Sverige;X-APPLE-RADIUS=500;X-TITLE=Naturum Ottenby 405:geo:16°23'56.8"E,56°11'47.2"N
END:VEVENT
BEGIN:VEVENT
DTSTART;TZID=Europe/Stockholm:20240706T100000
DTEND;TZID=Europe/Stockholm:20240706T104500
DTSTAMP:20260420T130929
CREATED:20240222T145054Z
LAST-MODIFIED:20240318T130943Z
UID:9515-1720260000-1720262700@naturumottenby.se
SUMMARY:Sälar och fåglar
DESCRIPTION:På den här guidningen fokuserar vi på fåglarna och sälarna som finns runt udden för dagen. Guiden hjälper till att artbestämma och ger tips på hur du kan känna igen arterna. Du kan få höra mer om varför fåglar flyttar\, varför Ölands södra udde är en bra plats för just fåglar eller om Östersjöns spännande värld. \nKikare finns att låna. \nStart utanför naturum Ottenby.
URL:https://naturumottenby.se/aktiviteter/uddens-faglar-och-salar-18/2024-07-06/
LOCATION:naturum Ottenby\, Naturum Ottenby 405\, Degerhamn\, 38065\, Sverige
CATEGORIES:Dagliga guidningar
ATTACH;FMTTYPE=image/jpeg:https://naturumottenby.se/wp-content/uploads/sites/20/2018/08/Silvertärna_3.jpg
ORGANIZER;CN="naturum Ottenby":MAILTO:naturum@ottenby.se
GEO:56°11'47.2"N;16°23'56.8"E
X-APPLE-STRUCTURED-LOCATION;VALUE=URI;X-ADDRESS=naturum Ottenby Naturum Ottenby 405 Degerhamn 38065 Sverige;X-APPLE-RADIUS=500;X-TITLE=Naturum Ottenby 405:geo:16°23'56.8"E,56°11'47.2"N
END:VEVENT
BEGIN:VEVENT
DTSTART;TZID=Europe/Stockholm:20240705T100000
DTEND;TZID=Europe/Stockholm:20240705T104500
DTSTAMP:20260420T130929
CREATED:20240222T145054Z
LAST-MODIFIED:20240318T130942Z
UID:9514-1720173600-1720176300@naturumottenby.se
SUMMARY:Sälar och fåglar
DESCRIPTION:På den här guidningen fokuserar vi på fåglarna och sälarna som finns runt udden för dagen. Guiden hjälper till att artbestämma och ger tips på hur du kan känna igen arterna. Du kan få höra mer om varför fåglar flyttar\, varför Ölands södra udde är en bra plats för just fåglar eller om Östersjöns spännande värld. \nKikare finns att låna. \nStart utanför naturum Ottenby.
URL:https://naturumottenby.se/aktiviteter/uddens-faglar-och-salar-18/2024-07-05/
LOCATION:naturum Ottenby\, Naturum Ottenby 405\, Degerhamn\, 38065\, Sverige
CATEGORIES:Dagliga guidningar
ATTACH;FMTTYPE=image/jpeg:https://naturumottenby.se/wp-content/uploads/sites/20/2018/08/Silvertärna_3.jpg
ORGANIZER;CN="naturum Ottenby":MAILTO:naturum@ottenby.se
GEO:56°11'47.2"N;16°23'56.8"E
X-APPLE-STRUCTURED-LOCATION;VALUE=URI;X-ADDRESS=naturum Ottenby Naturum Ottenby 405 Degerhamn 38065 Sverige;X-APPLE-RADIUS=500;X-TITLE=Naturum Ottenby 405:geo:16°23'56.8"E,56°11'47.2"N
END:VEVENT
BEGIN:VEVENT
DTSTART;TZID=Europe/Stockholm:20240704T100000
DTEND;TZID=Europe/Stockholm:20240704T104500
DTSTAMP:20260420T130929
CREATED:20240222T145054Z
LAST-MODIFIED:20240318T130937Z
UID:9512-1720087200-1720089900@naturumottenby.se
SUMMARY:Sälar och fåglar
DESCRIPTION:På den här guidningen fokuserar vi på fåglarna och sälarna som finns runt udden för dagen. Guiden hjälper till att artbestämma och ger tips på hur du kan känna igen arterna. Du kan få höra mer om varför fåglar flyttar\, varför Ölands södra udde är en bra plats för just fåglar eller om Östersjöns spännande värld. \nKikare finns att låna. \nStart utanför naturum Ottenby.
URL:https://naturumottenby.se/aktiviteter/uddens-faglar-och-salar-18/2024-07-04/
LOCATION:naturum Ottenby\, Naturum Ottenby 405\, Degerhamn\, 38065\, Sverige
CATEGORIES:Dagliga guidningar
ATTACH;FMTTYPE=image/jpeg:https://naturumottenby.se/wp-content/uploads/sites/20/2018/08/Silvertärna_3.jpg
ORGANIZER;CN="naturum Ottenby":MAILTO:naturum@ottenby.se
GEO:56°11'47.2"N;16°23'56.8"E
X-APPLE-STRUCTURED-LOCATION;VALUE=URI;X-ADDRESS=naturum Ottenby Naturum Ottenby 405 Degerhamn 38065 Sverige;X-APPLE-RADIUS=500;X-TITLE=Naturum Ottenby 405:geo:16°23'56.8"E,56°11'47.2"N
END:VEVENT
BEGIN:VEVENT
DTSTART;TZID=Europe/Stockholm:20240703T100000
DTEND;TZID=Europe/Stockholm:20240703T104500
DTSTAMP:20260420T130929
CREATED:20240222T145054Z
LAST-MODIFIED:20240318T130936Z
UID:9511-1720000800-1720003500@naturumottenby.se
SUMMARY:Sälar och fåglar
DESCRIPTION:På den här guidningen fokuserar vi på fåglarna och sälarna som finns runt udden för dagen. Guiden hjälper till att artbestämma och ger tips på hur du kan känna igen arterna. Du kan få höra mer om varför fåglar flyttar\, varför Ölands södra udde är en bra plats för just fåglar eller om Östersjöns spännande värld. \nKikare finns att låna. \nStart utanför naturum Ottenby.
URL:https://naturumottenby.se/aktiviteter/uddens-faglar-och-salar-18/2024-07-03/
LOCATION:naturum Ottenby\, Naturum Ottenby 405\, Degerhamn\, 38065\, Sverige
CATEGORIES:Dagliga guidningar
ATTACH;FMTTYPE=image/jpeg:https://naturumottenby.se/wp-content/uploads/sites/20/2018/08/Silvertärna_3.jpg
ORGANIZER;CN="naturum Ottenby":MAILTO:naturum@ottenby.se
GEO:56°11'47.2"N;16°23'56.8"E
X-APPLE-STRUCTURED-LOCATION;VALUE=URI;X-ADDRESS=naturum Ottenby Naturum Ottenby 405 Degerhamn 38065 Sverige;X-APPLE-RADIUS=500;X-TITLE=Naturum Ottenby 405:geo:16°23'56.8"E,56°11'47.2"N
END:VEVENT
BEGIN:VEVENT
DTSTART;TZID=Europe/Stockholm:20240702T100000
DTEND;TZID=Europe/Stockholm:20240702T104500
DTSTAMP:20260420T130929
CREATED:20240222T145054Z
LAST-MODIFIED:20240318T130935Z
UID:9510-1719914400-1719917100@naturumottenby.se
SUMMARY:Sälar och fåglar
DESCRIPTION:På den här guidningen fokuserar vi på fåglarna och sälarna som finns runt udden för dagen. Guiden hjälper till att artbestämma och ger tips på hur du kan känna igen arterna. Du kan få höra mer om varför fåglar flyttar\, varför Ölands södra udde är en bra plats för just fåglar eller om Östersjöns spännande värld. \nKikare finns att låna. \nStart utanför naturum Ottenby.
URL:https://naturumottenby.se/aktiviteter/uddens-faglar-och-salar-18/2024-07-02/
LOCATION:naturum Ottenby\, Naturum Ottenby 405\, Degerhamn\, 38065\, Sverige
CATEGORIES:Dagliga guidningar
ATTACH;FMTTYPE=image/jpeg:https://naturumottenby.se/wp-content/uploads/sites/20/2018/08/Silvertärna_3.jpg
ORGANIZER;CN="naturum Ottenby":MAILTO:naturum@ottenby.se
GEO:56°11'47.2"N;16°23'56.8"E
X-APPLE-STRUCTURED-LOCATION;VALUE=URI;X-ADDRESS=naturum Ottenby Naturum Ottenby 405 Degerhamn 38065 Sverige;X-APPLE-RADIUS=500;X-TITLE=Naturum Ottenby 405:geo:16°23'56.8"E,56°11'47.2"N
END:VEVENT
BEGIN:VEVENT
DTSTART;TZID=Europe/Stockholm:20240701T100000
DTEND;TZID=Europe/Stockholm:20240701T104500
DTSTAMP:20260420T130929
CREATED:20240222T145054Z
LAST-MODIFIED:20240318T130934Z
UID:9509-1719828000-1719830700@naturumottenby.se
SUMMARY:Sälar och fåglar
DESCRIPTION:På den här guidningen fokuserar vi på fåglarna och sälarna som finns runt udden för dagen. Guiden hjälper till att artbestämma och ger tips på hur du kan känna igen arterna. Du kan få höra mer om varför fåglar flyttar\, varför Ölands södra udde är en bra plats för just fåglar eller om Östersjöns spännande värld. \nKikare finns att låna. \nStart utanför naturum Ottenby.
URL:https://naturumottenby.se/aktiviteter/uddens-faglar-och-salar-18/2024-07-01/
LOCATION:naturum Ottenby\, Naturum Ottenby 405\, Degerhamn\, 38065\, Sverige
CATEGORIES:Dagliga guidningar
ATTACH;FMTTYPE=image/jpeg:https://naturumottenby.se/wp-content/uploads/sites/20/2018/08/Silvertärna_3.jpg
ORGANIZER;CN="naturum Ottenby":MAILTO:naturum@ottenby.se
GEO:56°11'47.2"N;16°23'56.8"E
X-APPLE-STRUCTURED-LOCATION;VALUE=URI;X-ADDRESS=naturum Ottenby Naturum Ottenby 405 Degerhamn 38065 Sverige;X-APPLE-RADIUS=500;X-TITLE=Naturum Ottenby 405:geo:16°23'56.8"E,56°11'47.2"N
END:VEVENT
BEGIN:VEVENT
DTSTART;TZID=Europe/Stockholm:20240630T100000
DTEND;TZID=Europe/Stockholm:20240630T104500
DTSTAMP:20260420T130929
CREATED:20240222T145054Z
LAST-MODIFIED:20240318T130934Z
UID:9508-1719741600-1719744300@naturumottenby.se
SUMMARY:Sälar och fåglar
DESCRIPTION:På den här guidningen fokuserar vi på fåglarna och sälarna som finns runt udden för dagen. Guiden hjälper till att artbestämma och ger tips på hur du kan känna igen arterna. Du kan få höra mer om varför fåglar flyttar\, varför Ölands södra udde är en bra plats för just fåglar eller om Östersjöns spännande värld. \nKikare finns att låna. \nStart utanför naturum Ottenby.
URL:https://naturumottenby.se/aktiviteter/uddens-faglar-och-salar-18/2024-06-30/
LOCATION:naturum Ottenby\, Naturum Ottenby 405\, Degerhamn\, 38065\, Sverige
CATEGORIES:Dagliga guidningar
ATTACH;FMTTYPE=image/jpeg:https://naturumottenby.se/wp-content/uploads/sites/20/2018/08/Silvertärna_3.jpg
ORGANIZER;CN="naturum Ottenby":MAILTO:naturum@ottenby.se
GEO:56°11'47.2"N;16°23'56.8"E
X-APPLE-STRUCTURED-LOCATION;VALUE=URI;X-ADDRESS=naturum Ottenby Naturum Ottenby 405 Degerhamn 38065 Sverige;X-APPLE-RADIUS=500;X-TITLE=Naturum Ottenby 405:geo:16°23'56.8"E,56°11'47.2"N
END:VEVENT
BEGIN:VEVENT
DTSTART;TZID=Europe/Stockholm:20240629T100000
DTEND;TZID=Europe/Stockholm:20240629T104500
DTSTAMP:20260420T130929
CREATED:20240222T145054Z
LAST-MODIFIED:20240318T130933Z
UID:9507-1719655200-1719657900@naturumottenby.se
SUMMARY:Sälar och fåglar
DESCRIPTION:På den här guidningen fokuserar vi på fåglarna och sälarna som finns runt udden för dagen. Guiden hjälper till att artbestämma och ger tips på hur du kan känna igen arterna. Du kan få höra mer om varför fåglar flyttar\, varför Ölands södra udde är en bra plats för just fåglar eller om Östersjöns spännande värld. \nKikare finns att låna. \nStart utanför naturum Ottenby.
URL:https://naturumottenby.se/aktiviteter/uddens-faglar-och-salar-18/2024-06-29/
LOCATION:naturum Ottenby\, Naturum Ottenby 405\, Degerhamn\, 38065\, Sverige
CATEGORIES:Dagliga guidningar
ATTACH;FMTTYPE=image/jpeg:https://naturumottenby.se/wp-content/uploads/sites/20/2018/08/Silvertärna_3.jpg
ORGANIZER;CN="naturum Ottenby":MAILTO:naturum@ottenby.se
GEO:56°11'47.2"N;16°23'56.8"E
X-APPLE-STRUCTURED-LOCATION;VALUE=URI;X-ADDRESS=naturum Ottenby Naturum Ottenby 405 Degerhamn 38065 Sverige;X-APPLE-RADIUS=500;X-TITLE=Naturum Ottenby 405:geo:16°23'56.8"E,56°11'47.2"N
END:VEVENT
BEGIN:VEVENT
DTSTART;TZID=Europe/Stockholm:20240628T100000
DTEND;TZID=Europe/Stockholm:20240628T104500
DTSTAMP:20260420T130929
CREATED:20240222T145054Z
LAST-MODIFIED:20240318T130932Z
UID:9506-1719568800-1719571500@naturumottenby.se
SUMMARY:Sälar och fåglar
DESCRIPTION:På den här guidningen fokuserar vi på fåglarna och sälarna som finns runt udden för dagen. Guiden hjälper till att artbestämma och ger tips på hur du kan känna igen arterna. Du kan få höra mer om varför fåglar flyttar\, varför Ölands södra udde är en bra plats för just fåglar eller om Östersjöns spännande värld. \nKikare finns att låna. \nStart utanför naturum Ottenby.
URL:https://naturumottenby.se/aktiviteter/uddens-faglar-och-salar-18/2024-06-28/
LOCATION:naturum Ottenby\, Naturum Ottenby 405\, Degerhamn\, 38065\, Sverige
CATEGORIES:Dagliga guidningar
ATTACH;FMTTYPE=image/jpeg:https://naturumottenby.se/wp-content/uploads/sites/20/2018/08/Silvertärna_3.jpg
ORGANIZER;CN="naturum Ottenby":MAILTO:naturum@ottenby.se
GEO:56°11'47.2"N;16°23'56.8"E
X-APPLE-STRUCTURED-LOCATION;VALUE=URI;X-ADDRESS=naturum Ottenby Naturum Ottenby 405 Degerhamn 38065 Sverige;X-APPLE-RADIUS=500;X-TITLE=Naturum Ottenby 405:geo:16°23'56.8"E,56°11'47.2"N
END:VEVENT
BEGIN:VEVENT
DTSTART;TZID=Europe/Stockholm:20240627T100000
DTEND;TZID=Europe/Stockholm:20240627T104500
DTSTAMP:20260420T130929
CREATED:20240222T145054Z
LAST-MODIFIED:20240318T130931Z
UID:9505-1719482400-1719485100@naturumottenby.se
SUMMARY:Sälar och fåglar
DESCRIPTION:På den här guidningen fokuserar vi på fåglarna och sälarna som finns runt udden för dagen. Guiden hjälper till att artbestämma och ger tips på hur du kan känna igen arterna. Du kan få höra mer om varför fåglar flyttar\, varför Ölands södra udde är en bra plats för just fåglar eller om Östersjöns spännande värld. \nKikare finns att låna. \nStart utanför naturum Ottenby.
URL:https://naturumottenby.se/aktiviteter/uddens-faglar-och-salar-18/2024-06-27/
LOCATION:naturum Ottenby\, Naturum Ottenby 405\, Degerhamn\, 38065\, Sverige
CATEGORIES:Dagliga guidningar
ATTACH;FMTTYPE=image/jpeg:https://naturumottenby.se/wp-content/uploads/sites/20/2018/08/Silvertärna_3.jpg
ORGANIZER;CN="naturum Ottenby":MAILTO:naturum@ottenby.se
GEO:56°11'47.2"N;16°23'56.8"E
X-APPLE-STRUCTURED-LOCATION;VALUE=URI;X-ADDRESS=naturum Ottenby Naturum Ottenby 405 Degerhamn 38065 Sverige;X-APPLE-RADIUS=500;X-TITLE=Naturum Ottenby 405:geo:16°23'56.8"E,56°11'47.2"N
END:VEVENT
BEGIN:VEVENT
DTSTART;TZID=Europe/Stockholm:20240626T100000
DTEND;TZID=Europe/Stockholm:20240626T104500
DTSTAMP:20260420T130929
CREATED:20240222T145054Z
LAST-MODIFIED:20240318T130931Z
UID:9504-1719396000-1719398700@naturumottenby.se
SUMMARY:Sälar och fåglar
DESCRIPTION:På den här guidningen fokuserar vi på fåglarna och sälarna som finns runt udden för dagen. Guiden hjälper till att artbestämma och ger tips på hur du kan känna igen arterna. Du kan få höra mer om varför fåglar flyttar\, varför Ölands södra udde är en bra plats för just fåglar eller om Östersjöns spännande värld. \nKikare finns att låna. \nStart utanför naturum Ottenby.
URL:https://naturumottenby.se/aktiviteter/uddens-faglar-och-salar-18/2024-06-26/
LOCATION:naturum Ottenby\, Naturum Ottenby 405\, Degerhamn\, 38065\, Sverige
CATEGORIES:Dagliga guidningar
ATTACH;FMTTYPE=image/jpeg:https://naturumottenby.se/wp-content/uploads/sites/20/2018/08/Silvertärna_3.jpg
ORGANIZER;CN="naturum Ottenby":MAILTO:naturum@ottenby.se
GEO:56°11'47.2"N;16°23'56.8"E
X-APPLE-STRUCTURED-LOCATION;VALUE=URI;X-ADDRESS=naturum Ottenby Naturum Ottenby 405 Degerhamn 38065 Sverige;X-APPLE-RADIUS=500;X-TITLE=Naturum Ottenby 405:geo:16°23'56.8"E,56°11'47.2"N
END:VEVENT
BEGIN:VEVENT
DTSTART;TZID=Europe/Stockholm:20240625T100000
DTEND;TZID=Europe/Stockholm:20240625T104500
DTSTAMP:20260420T130929
CREATED:20240222T145054Z
LAST-MODIFIED:20240318T130930Z
UID:9503-1719309600-1719312300@naturumottenby.se
SUMMARY:Sälar och fåglar
DESCRIPTION:På den här guidningen fokuserar vi på fåglarna och sälarna som finns runt udden för dagen. Guiden hjälper till att artbestämma och ger tips på hur du kan känna igen arterna. Du kan få höra mer om varför fåglar flyttar\, varför Ölands södra udde är en bra plats för just fåglar eller om Östersjöns spännande värld. \nKikare finns att låna. \nStart utanför naturum Ottenby.
URL:https://naturumottenby.se/aktiviteter/uddens-faglar-och-salar-18/2024-06-25/
LOCATION:naturum Ottenby\, Naturum Ottenby 405\, Degerhamn\, 38065\, Sverige
CATEGORIES:Dagliga guidningar
ATTACH;FMTTYPE=image/jpeg:https://naturumottenby.se/wp-content/uploads/sites/20/2018/08/Silvertärna_3.jpg
ORGANIZER;CN="naturum Ottenby":MAILTO:naturum@ottenby.se
GEO:56°11'47.2"N;16°23'56.8"E
X-APPLE-STRUCTURED-LOCATION;VALUE=URI;X-ADDRESS=naturum Ottenby Naturum Ottenby 405 Degerhamn 38065 Sverige;X-APPLE-RADIUS=500;X-TITLE=Naturum Ottenby 405:geo:16°23'56.8"E,56°11'47.2"N
END:VEVENT
BEGIN:VEVENT
DTSTART;TZID=Europe/Stockholm:20240624T100000
DTEND;TZID=Europe/Stockholm:20240624T104500
DTSTAMP:20260420T130929
CREATED:20240222T145054Z
LAST-MODIFIED:20240318T131005Z
UID:9502-1719223200-1719225900@naturumottenby.se
SUMMARY:Sälar och fåglar
DESCRIPTION:På den här guidningen fokuserar vi på fåglarna och sälarna som finns runt udden för dagen. Guiden hjälper till att artbestämma och ger tips på hur du kan känna igen arterna. Du kan få höra mer om varför fåglar flyttar\, varför Ölands södra udde är en bra plats för just fåglar eller om Östersjöns spännande värld. \nKikare finns att låna. \nStart utanför naturum Ottenby.
URL:https://naturumottenby.se/aktiviteter/uddens-faglar-och-salar-18/2024-06-24/
LOCATION:naturum Ottenby\, Naturum Ottenby 405\, Degerhamn\, 38065\, Sverige
CATEGORIES:Dagliga guidningar
ATTACH;FMTTYPE=image/jpeg:https://naturumottenby.se/wp-content/uploads/sites/20/2018/08/Silvertärna_3.jpg
ORGANIZER;CN="naturum Ottenby":MAILTO:naturum@ottenby.se
GEO:56°11'47.2"N;16°23'56.8"E
X-APPLE-STRUCTURED-LOCATION;VALUE=URI;X-ADDRESS=naturum Ottenby Naturum Ottenby 405 Degerhamn 38065 Sverige;X-APPLE-RADIUS=500;X-TITLE=Naturum Ottenby 405:geo:16°23'56.8"E,56°11'47.2"N
END:VEVENT
END:VCALENDAR