BEGIN:VCALENDAR
VERSION:2.0
PRODID:-//Naturum Ottenby - ECPv6.15.17.1//NONSGML v1.0//EN
CALSCALE:GREGORIAN
METHOD:PUBLISH
X-WR-CALNAME:Naturum Ottenby
X-ORIGINAL-URL:https://naturumottenby.se
X-WR-CALDESC:Händelser för Naturum Ottenby
REFRESH-INTERVAL;VALUE=DURATION:PT1H
X-Robots-Tag:noindex
X-PUBLISHED-TTL:PT1H
BEGIN:VTIMEZONE
TZID:Europe/Stockholm
BEGIN:DAYLIGHT
TZOFFSETFROM:+0100
TZOFFSETTO:+0200
TZNAME:CEST
DTSTART:20230326T010000
END:DAYLIGHT
BEGIN:STANDARD
TZOFFSETFROM:+0200
TZOFFSETTO:+0100
TZNAME:CET
DTSTART:20231029T010000
END:STANDARD
BEGIN:DAYLIGHT
TZOFFSETFROM:+0100
TZOFFSETTO:+0200
TZNAME:CEST
DTSTART:20240331T010000
END:DAYLIGHT
BEGIN:STANDARD
TZOFFSETFROM:+0200
TZOFFSETTO:+0100
TZNAME:CET
DTSTART:20241027T010000
END:STANDARD
BEGIN:DAYLIGHT
TZOFFSETFROM:+0100
TZOFFSETTO:+0200
TZNAME:CEST
DTSTART:20250330T010000
END:DAYLIGHT
BEGIN:STANDARD
TZOFFSETFROM:+0200
TZOFFSETTO:+0100
TZNAME:CET
DTSTART:20251026T010000
END:STANDARD
END:VTIMEZONE
BEGIN:VEVENT
DTSTART;TZID=Europe/Stockholm:20240908T100000
DTEND;TZID=Europe/Stockholm:20240908T120000
DTSTAMP:20260420T080525
CREATED:20240318T124156Z
LAST-MODIFIED:20240318T124457Z
UID:10222-1725789600-1725796800@naturumottenby.se
SUMMARY:Penåsa\, en vandring med Eva Åkerstedt
DESCRIPTION:Välkomna till en guidning i Penåsa\nVägen går ut på den gamla järnvägsvallen från Kastlösa mot Skärlöv. Vi möts vid rastplatsen i Penåsa.\nDärifrån går vid en kortare runda ut över alvaret\, förbi Penåsa ödeby och genom skogen tillbaka till parkeringen.\nÖlands geologiska förutsättningar skiljer sig markant från de på fastlandet och det har under alla tider påverkat livet för alla på ön\, från den minsta lilla fetknopp på alvaret till de öländska bönderna både i gamla tider och idag.\nTag gärna med fika och något att sitta på.\nVälkomna! \nGuide: Eva Åkerstedt\nPris: 110 kr/person. Betalas med Swish på plats.\nPlats: Start vid parkeringen i Penåsa.
URL:https://naturumottenby.se/aktiviteter/vandring-i-penasa/
LOCATION:Penåsa\, Kastlösa Alvargata\, Mörbylånga\, 380 62\, Sverige
CATEGORIES:Guidning
ATTACH;FMTTYPE=image/jpeg:https://cdn.birdlife.se/wp-content/uploads/sites/20/2024/03/penasa-scaled.jpg
ORGANIZER;CN="naturum Ottenby":MAILTO:naturum@ottenby.se
END:VEVENT
END:VCALENDAR